BEGIN:VCALENDAR
VERSION:2.0
PRODID:-//Warfield at Historic Sykesville - ECPv6.15.20//NONSGML v1.0//EN
CALSCALE:GREGORIAN
METHOD:PUBLISH
X-WR-CALNAME:Warfield at Historic Sykesville
X-ORIGINAL-URL:https://historicwarfield.com
X-WR-CALDESC:Events for Warfield at Historic Sykesville
REFRESH-INTERVAL;VALUE=DURATION:PT1H
X-Robots-Tag:noindex
X-PUBLISHED-TTL:PT1H
BEGIN:VTIMEZONE
TZID:UTC
BEGIN:STANDARD
TZOFFSETFROM:+0000
TZOFFSETTO:+0000
TZNAME:UTC
DTSTART:20170101T000000
END:STANDARD
END:VTIMEZONE
BEGIN:VEVENT
DTSTART;TZID=UTC:20201028T180000
DTEND;TZID=UTC:20201029T193000
DTSTAMP:20260420T142531
CREATED:20201022T155951Z
LAST-MODIFIED:20201022T161025Z
UID:2819-1603908000-1603999800@historicwarfield.com
SUMMARY:Vision for Downtown Sykesville Design Workshop
DESCRIPTION:Come vision with us for the future of Sykesville. During this 2-day event\, we’ll create design concepts of Downtown Sykesville to map out the vision for future investment
URL:https://historicwarfield.com/event/vision-for-downtown-sykesville-design-workshop/
LOCATION:Sykesville 2030 Comprehensive Plan\, 7547 Main Street \,Sykesville\, MD 21784\, USA
ATTACH;FMTTYPE=image/jpeg:https://historicwarfield.com/wp-content/uploads/2020/10/img2.jpg
END:VEVENT
BEGIN:VEVENT
DTSTART;TZID=UTC:20201021T180000
DTEND;TZID=UTC:20201021T193000
DTSTAMP:20260420T142531
CREATED:20201022T155401Z
LAST-MODIFIED:20201022T170838Z
UID:2814-1603303200-1603308600@historicwarfield.com
SUMMARY:Town Hall Listening Session
DESCRIPTION:Hear what we’ve learned so far and provide us with your feedback on a number of topics. \nJoin us on Facebook Live at 6:00 for a brief opening presentation. At 6:15\, please join our Zoom call for the interactive discussion portion. \n Click Here to Join Facebook Live at 6:00 \nClick Here to Join Zoom at 6:15 \n(Meeting ID: 762 214 9761)\,(Or Join by Phone: 301-715-8592)
URL:https://historicwarfield.com/event/town-hall-listening-session/
LOCATION:Sykesville 2030 Comprehensive Plan\, 7547 Main Street \,Sykesville\, MD 21784\, USA
ATTACH;FMTTYPE=image/jpeg:https://historicwarfield.com/wp-content/uploads/2020/10/img1.jpg
END:VEVENT
BEGIN:VEVENT
DTSTART;TZID=UTC:20201014T180000
DTEND;TZID=UTC:20201014T183000
DTSTAMP:20260420T142531
CREATED:20201022T154111Z
LAST-MODIFIED:20201022T170515Z
UID:2811-1602698400-1602700200@historicwarfield.com
SUMMARY:COMPREHENSIVE PLAN OVERVIEW EVENT
DESCRIPTION:The Town of Sykesville is developing a Comprehensive Plan to identify and prioritize the Town’s strategic goals and objectives for the next 10-year horizon.\nWatch the recording of this event here.
URL:https://historicwarfield.com/event/comprehensive-plan-overview-event/
LOCATION:Sykesville 2030 Comprehensive Plan\, 7547 Main Street \,Sykesville\, MD 21784\, USA
ATTACH;FMTTYPE=image/jpeg:https://historicwarfield.com/wp-content/uploads/2020/10/Sykesville-2030-Comp-Plan_Promotion-Handout-1_1.jpg
END:VEVENT
BEGIN:VEVENT
DTSTART;TZID=UTC:20181208T170000
DTEND;TZID=UTC:20181208T170000
DTSTAMP:20260420T142531
CREATED:20181130T173903Z
LAST-MODIFIED:20181130T173903Z
UID:2637-1544288400-1544288400@historicwarfield.com
SUMMARY:Santa's Arrival on Main Street!
DESCRIPTION:Santa will ride a firetruck down Main Street\, stop by the Fountain Park to light the Christmas Tree\, and then meet with children in the red caboose behind the Post Office.
URL:https://historicwarfield.com/event/santas-arrival-on-main-street/
LOCATION:Sykesville\, MD 21784\, USA\, United States
ATTACH;FMTTYPE=image/png:https://historicwarfield.com/wp-content/uploads/2018/11/christmas.png
END:VEVENT
BEGIN:VEVENT
DTSTART;TZID=UTC:20181110T120000
DTEND;TZID=UTC:20181110T170000
DTSTAMP:20260420T142531
CREATED:20181105T143259Z
LAST-MODIFIED:20181203T103501Z
UID:2358-1541851200-1541869200@historicwarfield.com
SUMMARY:Sykesville Craft Beer Festival
DESCRIPTION:One of Sykesville Main Street’s most popular events is back\, the Sykesville Craft Beer Festival\, and this year we’re twisting it into the best of local microbreweries and food truck delishes! \nCrafter spots and food vendor application are available! \nPre-Sale Tickets $35. You can purchase tickets at the gate for $40/admission. Tickets are non-refundable. \nRain or shine. \nNO PETS ALLOWED (Town Ordinance 301\, which modified the Town Code. The Town Code reference for the “no pets or animals allowed at Town events is: Chapter 51\, Article 1\, Sections 51-1 through 51-) \nEntertainment – \n12pm- 2pm | Bottom of the Fifth\n2:30pm-5pm | Soundtown Baltimore \nWe are partnering with nonprofits to pour the beer.\nTip jars labeled with the nonprofit logos will be available at several breweries to help these great volunteers fun-fundraise for their cause! \nWant to help with the festival and get some love in return\, use our signup genius! \nWe will have a FREE shuttle service picking up at Freedom Park and Sykesville Middle School\, looping through the nearby “Park and Ride” and taking you to our beautiful Main Street. \nFlying Dog Brewery\nMonument City Brewing Company\nJailbreak Brewing Company\nKey Brewing Co.\nHarpoon Brewery\nNew Belgium Brewing\nDuClaw Brewing Co.\nTerrapin Beer Co.\nRaven Brewing & BBQ Cadillac\nWyndridge Farm\nUNION Craft Brewing\nManor Hill Brewing\nRAR Brewing\n3 Stars Brewing Company\nFounders Brewing Co.\nCaptain Lawrence Brewing Company\nCigar City Brewing\nAustin Eastciders (cider)\nTwo Roads Brewing Company\nSouthern Tier Brewing Company\nBloomery Distillery (cocktails in a can)\nOliver Brewing Company\nAce Premium Craft Cider\nNashaminy Creek Beer\nAntietam Brewery\n3rd Wave Brewing Co.\nBlack Flag Brewing Company\nMully’s Brewery\nJack’s Hard Cider (cider)\nPotter’s Craft Cider (cider)\nBell’s Brewery\nTröegs Independent Brewing\nVictory Beer\nSmoketown Brewing Station\nReckless Brewing Company\nSierra Nevada\nFull Tilt Brewing\n7 Locks Brewing\nWaredaca Brewing Company\nBarley & Hops\nRed Shedman Farm Brewery\nB.C. Brewery \n\nGuiness \nBud Light domestic trailer \nFood truck update! We will be welcoming:\nAsian Fusion Elite\nHarborQue\nEl Piquin Mexican Restaurant\nThe Local Oyster\nCountry Concession\nThe Dawg Pound\nBricknFire Pizza Company- Mobile\nCalvert Kettle Corn\nThe Chicken smells good\nThe Broken Fork\nTasty Creations\nChar’d Barbecue\,LLC\nOsaka Hibachi Grill Changed to Ravin’ & Cravin’ Food Trucks\nThai Master Grill\nFlash Crabcake Company \n\nSpecial thanks to our sponsors: \n\n\n\n\n\n\n\n\n\n\n\n \n\n\n\n\nThe Downtown Sykesville Connection administers the nationally accredited Main Street program for the Town of Sykesville\, and has 501(c)3 designation as a component fund of the Carroll Community Foundation. In partnership with the Town of Sykesville\, the Association strives to ensure a thriving community and vibrant economic climate for businesses\, residents and visitors.
URL:https://historicwarfield.com/event/sykesville-craft-beer-festival/
LOCATION:Sykesville\, MD 21784\, USA\, United States
ATTACH;FMTTYPE=image/jpeg:https://historicwarfield.com/wp-content/uploads/2018/11/CBF-2018-square.jpg
ORGANIZER;CN="Julie Della-Maria":MAILTO:juliedellamaria@gmail.com
END:VEVENT
BEGIN:VEVENT
DTSTART;TZID=UTC:20181028T120000
DTEND;TZID=UTC:20181028T160000
DTSTAMP:20260420T142531
CREATED:20181105T142504Z
LAST-MODIFIED:20181105T143714Z
UID:2359-1540728000-1540742400@historicwarfield.com
SUMMARY:Merchant Events
DESCRIPTION:The Fabulous Main Merchants are always working to bring engaging and fun activities to their customers. \nTheir First Friday events are bringing the community together to eat\, shop\, and play Downtown Sykesville!
URL:https://historicwarfield.com/event/merchant-events/
ATTACH;FMTTYPE=image/jpeg:https://historicwarfield.com/wp-content/uploads/2018/11/Cider-Stroll-POSTER.jpg
END:VEVENT
BEGIN:VEVENT
DTSTART;TZID=UTC:20180520T090000
DTEND;TZID=UTC:20180520T130000
DTSTAMP:20260420T142531
CREATED:20181105T153934Z
LAST-MODIFIED:20181105T154054Z
UID:2384-1526806800-1526821200@historicwarfield.com
SUMMARY:Sykesville Farmers’ Market
DESCRIPTION:The Sykesville Farmers’ Market runs every Sunday\, 9:00am-1:00pm from May 20th to Oct 28th! You can find a variety of fruits and vegetables\, herbs\, honey\, cakes\, nuts\, beef\, pork\, poultry\, eggs\, cheese\, baked goods\, dog treats\, jewelry\, pickles\, sangria\, and more. The Farmers Market is located in the warehouse parking lot on Sandosky road. We have the Junior Market returning that is entirely operated by the kids! Every Sunday we will have a guest Non-Profit group joining us to connect with our community (Stay tuned as the guest non-profit will be announced on our Facebook page every week!). The Little Sykes railway will be running from 9am-1pm Did we mention we have a moon bounce and kids games (hula hoops\, chalk\, and jump ropes…) always available for free at the market from 9am-1pm?!
URL:https://historicwarfield.com/event/sykesville-farmers-market/
LOCATION:Downtown Sykesville\, 714 Sandosky Rd\, Sykesville\, MD 21784\, United States
ATTACH;FMTTYPE=image/jpeg:https://historicwarfield.com/wp-content/uploads/2018/11/Farmers-Market-Thumbnail-website-20180220-533x510.jpg
ORGANIZER;CN="Elizabeth Currence":MAILTO:ekcurrence@gmail.com
END:VEVENT
END:VCALENDAR