BEGIN:VCALENDAR
VERSION:2.0
PRODID:-//Warfield at Historic Sykesville - ECPv6.15.20//NONSGML v1.0//EN
CALSCALE:GREGORIAN
METHOD:PUBLISH
X-ORIGINAL-URL:https://historicwarfield.com
X-WR-CALDESC:Events for Warfield at Historic Sykesville
REFRESH-INTERVAL;VALUE=DURATION:PT1H
X-Robots-Tag:noindex
X-PUBLISHED-TTL:PT1H
BEGIN:VTIMEZONE
TZID:America/New_York
BEGIN:DAYLIGHT
TZOFFSETFROM:-0500
TZOFFSETTO:-0400
TZNAME:EDT
DTSTART:20220313T070000
END:DAYLIGHT
BEGIN:STANDARD
TZOFFSETFROM:-0400
TZOFFSETTO:-0500
TZNAME:EST
DTSTART:20221106T060000
END:STANDARD
BEGIN:DAYLIGHT
TZOFFSETFROM:-0500
TZOFFSETTO:-0400
TZNAME:EDT
DTSTART:20230312T070000
END:DAYLIGHT
BEGIN:STANDARD
TZOFFSETFROM:-0400
TZOFFSETTO:-0500
TZNAME:EST
DTSTART:20231105T060000
END:STANDARD
BEGIN:DAYLIGHT
TZOFFSETFROM:-0500
TZOFFSETTO:-0400
TZNAME:EDT
DTSTART:20240310T070000
END:DAYLIGHT
BEGIN:STANDARD
TZOFFSETFROM:-0400
TZOFFSETTO:-0500
TZNAME:EST
DTSTART:20241103T060000
END:STANDARD
END:VTIMEZONE
BEGIN:VEVENT
DTSTART;TZID=America/New_York:20230715T180000
DTEND;TZID=America/New_York:20230715T200000
DTSTAMP:20260420T063127
CREATED:20230716T140332Z
LAST-MODIFIED:20230716T140332Z
UID:5588-1689444000-1689451200@historicwarfield.com
SUMMARY:Music at Tiki Bar with Bill Park
DESCRIPTION:
URL:https://historicwarfield.com/event/music-at-tiki-bar-with-bill-park/
LOCATION:Amante Pizza & Pasta 21 Liberty Rd\, Sykesville\, MD\, United States
ATTACH;FMTTYPE=image/jpeg:https://historicwarfield.com/wp-content/uploads/2023/07/images-1.jpeg
END:VEVENT
BEGIN:VEVENT
DTSTART;TZID=America/New_York:20230714T190000
DTEND;TZID=America/New_York:20230714T190000
DTSTAMP:20260420T063127
CREATED:20230716T140752Z
LAST-MODIFIED:20230716T140752Z
UID:5592-1689361200-1689361200@historicwarfield.com
SUMMARY:Dean Crawford and the Dunn's River Band @ Winfield Carnival
DESCRIPTION:We’re back at the great WINFIELD CARNIVAL and we can’t wait to see you all again! Show starts at approximately 7pm so grab your chairs\, your family and friends and meet us at the stage! See you soon!Read more on AllEvents.in
URL:https://historicwarfield.com/event/dean-crawford-and-the-dunns-river-band-winfield-carnival/
LOCATION:Winfield & Community Fire Co 1320 W Old Liberty Rd\, Sykesville\, MD\, United States
END:VEVENT
BEGIN:VEVENT
DTSTART;TZID=America/New_York:20230714T180000
DTEND;TZID=America/New_York:20230714T180000
DTSTAMP:20260420T063127
CREATED:20230716T135859Z
LAST-MODIFIED:20230716T135859Z
UID:5584-1689357600-1689357600@historicwarfield.com
SUMMARY:Garrett Mabe @ The Vine on Main
DESCRIPTION:
URL:https://historicwarfield.com/event/garrett-mabe-the-vine-on-main/
LOCATION:The Vine on Main 7615 Main St\, Sykesville\, MD\, United States
ATTACH;FMTTYPE=image/jpeg:https://historicwarfield.com/wp-content/uploads/2023/07/images.jpeg
END:VEVENT
BEGIN:VEVENT
DTSTART;TZID=America/New_York:20230331T190000
DTEND;TZID=America/New_York:20230331T210000
DTSTAMP:20260420T063127
CREATED:20230319T182000Z
LAST-MODIFIED:20230319T182000Z
UID:5430-1680289200-1680296400@historicwarfield.com
SUMMARY:Opening Knights present Matilda--The Musical
DESCRIPTION:
URL:https://historicwarfield.com/event/opening-knights-present-matilda-the-musical-2/
LOCATION:Century High School 355 Ronsdale Rd\, Sykesville\, MD\, United States
END:VEVENT
BEGIN:VEVENT
DTSTART;TZID=America/New_York:20230331T100000
DTEND;TZID=America/New_York:20230331T110000
DTSTAMP:20260420T063127
CREATED:20230319T184245Z
LAST-MODIFIED:20230319T184245Z
UID:5460-1680256800-1680260400@historicwarfield.com
SUMMARY:Meet Pete the Cat: Storytime and Book Giveaway
DESCRIPTION:Program Type: Storytime\nAge Group: Kids ( Birth – 5 ) \nProgram Description\nCome rock with Pete the Cat in his school shoes! Enjoy stories\, songs\, crafts\, and attendees will get a free copy of Pete the Cat: Rocking in My School Shoes to take home.
URL:https://historicwarfield.com/event/meet-pete-the-cat-storytime-and-book-giveaway/
LOCATION:Carroll County Public Library – Eldersburg Branch 6400 W Hemlock Dr\, Sykesville\, MD\, United States
ATTACH;FMTTYPE=image/jpeg:https://historicwarfield.com/wp-content/uploads/2023/03/Meet-Pete-the-Cat_lm.jpg
END:VEVENT
BEGIN:VEVENT
DTSTART;TZID=America/New_York:20230330T110000
DTEND;TZID=America/New_York:20230330T120000
DTSTAMP:20260420T063127
CREATED:20230319T183516Z
LAST-MODIFIED:20230319T183516Z
UID:5449-1680174000-1680177600@historicwarfield.com
SUMMARY:Family Storytime
DESCRIPTION:Program Type: Storytime\nAge Group: Kids ( Birth – 8 ) \nProgram Description\nWe’ll share books\, stories\, rhymes\, music\, and movement. Come talk\, sing\, read\, write\, and play together in a format appropriate for young children.
URL:https://historicwarfield.com/event/family-storytime/
LOCATION:Carroll County Public Library – Eldersburg Branch 6400 W Hemlock Dr\, Sykesville\, MD\, United States
ATTACH;FMTTYPE=image/jpeg:https://historicwarfield.com/wp-content/uploads/2023/03/family-storytime_lm.jpg
END:VEVENT
BEGIN:VEVENT
DTSTART;TZID=America/New_York:20230330T070000
DTEND;TZID=America/New_York:20230330T150000
DTSTAMP:20260420T063127
CREATED:20230319T180449Z
LAST-MODIFIED:20230319T180449Z
UID:5409-1680159600-1680188400@historicwarfield.com
SUMMARY:Pop-Up Park Picnic: Couple Date Night (Self-Guided) - Sykesville Area
DESCRIPTION:
URL:https://historicwarfield.com/event/pop-up-park-picnic-couple-date-night-self-guided-sykesville-area-3/
LOCATION:Piney Run Park 30 Martz Rd\, Sykesville\, MD\, United States
ATTACH;FMTTYPE=image/jpeg:https://historicwarfield.com/wp-content/uploads/2023/03/a5e0172d3eafcd26e9481630ca49177a37cf106f76a21eaec42c4328c8a88d55-rimg-w612-h408-gmir.jpg
END:VEVENT
BEGIN:VEVENT
DTSTART;TZID=America/New_York:20230329T183000
DTEND;TZID=America/New_York:20230329T213000
DTSTAMP:20260420T063127
CREATED:20230319T180000Z
LAST-MODIFIED:20230319T180000Z
UID:5401-1680114600-1680125400@historicwarfield.com
SUMMARY:Sykesville Line Dance Party
DESCRIPTION:Sykesville Line Dance Party\nLine Dancing in Sykesville Maryland \nAbout this Event \nWednesday Night Line Dancing with DJ Jerry\nFun thing to do or date night in Sykesville at the Fire Hall. \nProceeds benefit Station #12. \n7 – 9:30pm | Doors Open at 6:30pm | Admission Charged at the Door \nBeginners are Welcome | All Types of Music | Casual Attire | Free Parking \nEnter the dance in the rear of the building off Freedom Avenue. \nDo you want to practice the dances? \nGet them on DJ Jerry Wayne’s facebook page here: \nFor more information vist our fundraising page at https://sykesvillefire.org. \nAlso check out other Parties in Sykesville\, Entertainment Events in Sykesville\, Music Events in Sykesville.
URL:https://historicwarfield.com/event/sykesville-line-dance-party/
LOCATION:Legacy Hall 6680 Sykesville Rd\, Sykesville\, MD\, United States
END:VEVENT
BEGIN:VEVENT
DTSTART;TZID=America/New_York:20230329T180000
DTEND;TZID=America/New_York:20230329T194500
DTSTAMP:20260420T063127
CREATED:20230319T194034Z
LAST-MODIFIED:20230319T194034Z
UID:5514-1680112800-1680119100@historicwarfield.com
SUMMARY:Eldersburg Hooked on Crochet
DESCRIPTION:Program Type: DIY Arts and Crafts\nAge Group: Teens ( 12 – Adults ) Adults \nProgram Description\nJoin this friendly crochet group that is open to both beginners and experienced crocheters alike. Those new to crocheting should bring a size J hook and a light-colored\, worsted-weight yarn to the class.
URL:https://historicwarfield.com/event/eldersburg-hooked-on-crochet/
LOCATION:Carroll County Public Library – Eldersburg Branch 6400 W Hemlock Dr\, Sykesville\, MD\, United States
ATTACH;FMTTYPE=image/jpeg:https://historicwarfield.com/wp-content/uploads/2023/03/Hooked-on-Crochet-spring-2023_lm.jpg
END:VEVENT
BEGIN:VEVENT
DTSTART;TZID=America/New_York:20230329T160000
DTEND;TZID=America/New_York:20230329T190000
DTSTAMP:20260420T063127
CREATED:20230319T173908Z
LAST-MODIFIED:20230319T173908Z
UID:5384-1680105600-1680116400@historicwarfield.com
SUMMARY:Sweet Simplici-tea Tea Room in Sykesville\, MD - A Victorian Tea House
DESCRIPTION:Details\nhttps://www.sweetsimplicitea.com/ \nAbove is the link for the website. \nSweet Simplici-Tea prides itself on being a place where our guests can come and relax in a lovely Victorian setting\, enjoy delectable foods and tea steeped to perfection. It is a place to escape for a short period of time the busyness of life\, to catch up on relationships and friendships. \nThey offer a variety of different teas\, sweet treats\, salads and other menu items as described in the link above. \nPlease look over the menu and called the tearoom or fill out the form for your choice of food before this Meetup. \nThey can also make gluten free scones and desserts.
URL:https://historicwarfield.com/event/sweet-simplici-tea-tea-room-in-sykesville-md-a-victorian-tea-house/
LOCATION:The isabel building\, 7540 Main St\, Sykesville\, MD\, USA
END:VEVENT
BEGIN:VEVENT
DTSTART;TZID=America/New_York:20230329T100000
DTEND;TZID=America/New_York:20230329T110000
DTSTAMP:20260420T063127
CREATED:20230319T183644Z
LAST-MODIFIED:20230319T183644Z
UID:5452-1680084000-1680087600@historicwarfield.com
SUMMARY:Read and Play
DESCRIPTION:Program Type: Storytime\nAge Group: Kids ( Birth – 24 Months ) \nProgram Description\nJoin your little one at a storytime featuring interactive books\, rhymes\, music\, and movement\, followed by playgroup activities which allow children to practice skills and socialize.
URL:https://historicwarfield.com/event/read-and-play-5/
LOCATION:Carroll County Public Library – Eldersburg Branch 6400 W Hemlock Dr\, Sykesville\, MD\, United States
ATTACH;FMTTYPE=image/jpeg:https://historicwarfield.com/wp-content/uploads/2023/03/read-play_lm.jpg
END:VEVENT
BEGIN:VEVENT
DTSTART;TZID=America/New_York:20230328T103000
DTEND;TZID=America/New_York:20230328T113000
DTSTAMP:20260420T063127
CREATED:20230319T184050Z
LAST-MODIFIED:20230319T184050Z
UID:5458-1679999400-1680003000@historicwarfield.com
SUMMARY:Alphabet Train
DESCRIPTION:Program Type: Storytime\nAge Group: Kids ( 3 – 6 )\nRegistration for this event will close on March 28\, 2023 @ 10:30am.\nAllowed Ages: 3 to 6\nThere are 3 seats remaining. \nProgram Description\nClimb aboard each week to explore a different letter of the alphabet through books\, songs\, and activities. All adult caregivers are welcome. \nDisclaimer(s)\nOnly kids need to register.
URL:https://historicwarfield.com/event/alphabet-train-2/
LOCATION:Carroll County Public Library – Eldersburg Branch 6400 W Hemlock Dr\, Sykesville\, MD\, United States
ATTACH;FMTTYPE=image/jpeg:https://historicwarfield.com/wp-content/uploads/2023/03/alphabet-train_lm.jpg
END:VEVENT
BEGIN:VEVENT
DTSTART;TZID=America/New_York:20230327T190000
DTEND;TZID=America/New_York:20230327T190000
DTSTAMP:20260420T063127
CREATED:20230319T184401Z
LAST-MODIFIED:20230319T184401Z
UID:5463-1679943600-1679943600@historicwarfield.com
SUMMARY:Town Council Meeting
DESCRIPTION:
URL:https://historicwarfield.com/event/town-council-meeting/
LOCATION:Downtown Sykesville Connection 7566 Main Street\, Spout Hill Rd #302\, Sykesville\, MD\, United States
END:VEVENT
BEGIN:VEVENT
DTSTART;TZID=America/New_York:20230327T100000
DTEND;TZID=America/New_York:20230327T110000
DTSTAMP:20260420T063127
CREATED:20230319T183257Z
LAST-MODIFIED:20230319T183257Z
UID:5447-1679911200-1679914800@historicwarfield.com
SUMMARY:Read and Play
DESCRIPTION:Program Type: Storytime\nAge Group: Kids ( Birth – 24 Months ) \nProgram Description\nJoin your little one at a storytime featuring interactive books\, rhymes\, music\, and movement\, followed by playgroup activities which allow children to practice skills and socialize.
URL:https://historicwarfield.com/event/read-and-play-4/
LOCATION:Carroll County Public Library – Eldersburg Branch 6400 W Hemlock Dr\, Sykesville\, MD\, United States
ATTACH;FMTTYPE=image/jpeg:https://historicwarfield.com/wp-content/uploads/2023/03/read-play_lm.jpg
END:VEVENT
BEGIN:VEVENT
DTSTART;TZID=America/New_York:20230326T070000
DTEND;TZID=America/New_York:20230326T150000
DTSTAMP:20260420T063127
CREATED:20230319T180733Z
LAST-MODIFIED:20230319T180733Z
UID:5412-1679814000-1679842800@historicwarfield.com
SUMMARY:Pop-Up Park Picnic: Couple Date Night (Self-Guided) - Sykesville Area
DESCRIPTION:
URL:https://historicwarfield.com/event/pop-up-park-picnic-couple-date-night-self-guided-sykesville-area-4/
LOCATION:Piney Run Park 30 Martz Rd\, Sykesville\, MD\, United States
ATTACH;FMTTYPE=image/jpeg:https://historicwarfield.com/wp-content/uploads/2023/03/a5cc8490-b592-11ed-8b2e-6b33d62d37d8-rimg-w720-h540-gmir.jpg
END:VEVENT
BEGIN:VEVENT
DTSTART;TZID=America/New_York:20230325T153000
DTEND;TZID=America/New_York:20230325T163000
DTSTAMP:20260420T063127
CREATED:20230319T193723Z
LAST-MODIFIED:20230319T193723Z
UID:5511-1679758200-1679761800@historicwarfield.com
SUMMARY:Tai Chi for Wellness and Rehabilitation
DESCRIPTION:Program Type: Health and Wellness\nAge Group: Teens ( 13 – Adults ) Adults\nRegistration for this event will close on March 25\, 2023 @ 3:30pm.\nAllowed Ages: 13 to Adult\nThere are 12 seats remaining. \nProgram Description\nTai chi is an ancient practice that has its origins in China. It is a mind/body practice that incorporates breath and gentle movements to focus the mind. This program will assist the body in recovering from illness and maintaining wellness. The instructor is certified through the Tai Chi for Health Institute. All levels are welcome.
URL:https://historicwarfield.com/event/tai-chi-for-wellness-and-rehabilitation/
LOCATION:Carroll County Public Library – Eldersburg Branch 6400 W Hemlock Dr\, Sykesville\, MD\, United States
ATTACH;FMTTYPE=image/jpeg:https://historicwarfield.com/wp-content/uploads/2023/03/Tai-Chi-spring-23_lm.jpg
END:VEVENT
BEGIN:VEVENT
DTSTART;TZID=America/New_York:20230325T140000
DTEND;TZID=America/New_York:20230325T150000
DTSTAMP:20260420T063127
CREATED:20230319T193322Z
LAST-MODIFIED:20230319T193322Z
UID:5505-1679752800-1679756400@historicwarfield.com
SUMMARY:Cryptid Keychains
DESCRIPTION:Program Type: DIY Arts and Crafts\nAge Group: Teens ( 12 – 17 )\nRegistration for this event will close on March 25\, 2023 @ 2:00pm.\nAllowed Ages: 12 to 17\nThere are 17 seats remaining. \nProgram Description\nAre you a fan of Bigfoot\, Mothman\, the Loch Ness Monster\, or any other cryptid? Join us at CCPL’s Eldersburg Branch to make a felt keychain inspired by your favorite cryptid! \nDisclaimer(s)\nAll attendees need to register.
URL:https://historicwarfield.com/event/cryptid-keychains/
LOCATION:Carroll County Public Library – Eldersburg Branch 6400 W Hemlock Dr\, Sykesville\, MD\, United States
ATTACH;FMTTYPE=image/jpeg:https://historicwarfield.com/wp-content/uploads/2023/03/Cryptid-Keychains_lm.jpg
END:VEVENT
BEGIN:VEVENT
DTSTART;TZID=America/New_York:20230325T140000
DTEND;TZID=America/New_York:20230325T150000
DTSTAMP:20260420T063127
CREATED:20230319T192318Z
LAST-MODIFIED:20230319T192318Z
UID:5494-1679752800-1679756400@historicwarfield.com
SUMMARY:booKPETS
DESCRIPTION:Program Type: Live Animals\nAge Group: Kids ( 4 – 17 )Teens \nProgram Description\nCome to the library and read a story to a book-loving dog. Research shows that reading to animals can boost reading skills in children as well as help with emotional and social skills. Struggling readers are encouraged to participate.
URL:https://historicwarfield.com/event/bookpets/
LOCATION:Carroll County Public Library – Eldersburg Branch 6400 W Hemlock Dr\, Sykesville\, MD\, United States
ATTACH;FMTTYPE=image/jpeg:https://historicwarfield.com/wp-content/uploads/2023/03/booKPETS-fall22_lm.jpg
END:VEVENT
BEGIN:VEVENT
DTSTART;TZID=America/New_York:20230325T140000
DTEND;TZID=America/New_York:20230325T140000
DTSTAMP:20260420T063127
CREATED:20230319T184638Z
LAST-MODIFIED:20230319T184638Z
UID:5465-1679752800-1679752800@historicwarfield.com
SUMMARY:Garrett Mabe
DESCRIPTION:
URL:https://historicwarfield.com/event/garrett-mabe/
LOCATION:American Legion Sykesville Memorial Post 223 7327 Slacks Rd\, Sykesville\, MD\, United States
END:VEVENT
BEGIN:VEVENT
DTSTART;TZID=America/New_York:20230325T100000
DTEND;TZID=America/New_York:20230325T110000
DTSTAMP:20260420T063127
CREATED:20230319T190554Z
LAST-MODIFIED:20230319T191706Z
UID:5485-1679738400-1679742000@historicwarfield.com
SUMMARY:Primary tabs
DESCRIPTION:
URL:https://historicwarfield.com/event/primary-tabs/
LOCATION:Carroll County Public Library – Eldersburg Branch 6400 W Hemlock Dr\, Sykesville\, MD\, United States
END:VEVENT
BEGIN:VEVENT
DTSTART;TZID=America/New_York:20230324T190000
DTEND;TZID=America/New_York:20230324T210000
DTSTAMP:20260420T063127
CREATED:20230319T175321Z
LAST-MODIFIED:20230319T175321Z
UID:5390-1679684400-1679691600@historicwarfield.com
SUMMARY:Opening Knights present Matilda--The Musical
DESCRIPTION:
URL:https://historicwarfield.com/event/opening-knights-present-matilda-the-musical/
LOCATION:Century High School 355 Ronsdale Rd\, Sykesville\, MD\, United States
END:VEVENT
BEGIN:VEVENT
DTSTART;TZID=America/New_York:20230324T110000
DTEND;TZID=America/New_York:20230324T190000
DTSTAMP:20260420T063127
CREATED:20230319T180952Z
LAST-MODIFIED:20230319T180952Z
UID:5415-1679655600-1679684400@historicwarfield.com
SUMMARY:Pop-Up Park Picnic: Couple Date Night (Self-Guided) - Sykesville Area
DESCRIPTION:
URL:https://historicwarfield.com/event/pop-up-park-picnic-couple-date-night-self-guided-sykesville-area-5/
LOCATION:30 Martz Rd\, Sykesville\, MD\, USA
ATTACH;FMTTYPE=image/jpeg:https://historicwarfield.com/wp-content/uploads/2023/03/a5e0172d3eafcd26e9481630ca49177a37cf106f76a21eaec42c4328c8a88d55-rimg-w612-h408-gmir.jpg
END:VEVENT
BEGIN:VEVENT
DTSTART;TZID=America/New_York:20230324T100000
DTEND;TZID=America/New_York:20230324T110000
DTSTAMP:20260420T063127
CREATED:20230319T182913Z
LAST-MODIFIED:20230319T182913Z
UID:5441-1679652000-1679655600@historicwarfield.com
SUMMARY:Tinker Tots
DESCRIPTION:Program Type: STEM/STEAM\nAge Group: Kids ( 2 – 5 )\nRegistration is closed because no more seats are available.\nAllowed Ages: 2 to 5 \nProgram Description\nA little push\, a twist\, a turn. Keep those little fingers busy and experiment in our library Tinkertown. Fun\, playful activities will engage the mind and body as your child builds their fine motor skills and creativity. \nDisclaimer(s)\nOnly kids need to register.
URL:https://historicwarfield.com/event/tinker-tots/
LOCATION:Carroll County Public Library – Eldersburg Branch 6400 W Hemlock Dr\, Sykesville\, MD\, United States
ATTACH;FMTTYPE=image/jpeg:https://historicwarfield.com/wp-content/uploads/2023/03/tinker-tots-fall22_lm.jpg
END:VEVENT
BEGIN:VEVENT
DTSTART;TZID=America/New_York:20230324T070000
DTEND;TZID=America/New_York:20230324T083000
DTSTAMP:20260420T063127
CREATED:20230319T191931Z
LAST-MODIFIED:20230319T191931Z
UID:5488-1679641200-1679646600@historicwarfield.com
SUMMARY:Together in Prayer
DESCRIPTION:
URL:https://historicwarfield.com/event/together-in-prayer/
LOCATION:St Joseph’s Catholic Church 915 Liberty Rd\, Sykesville\, MD\, United States
ATTACH;FMTTYPE=image/jpeg:https://historicwarfield.com/wp-content/uploads/2023/03/326128095_676380040895352_311015222710297942_n.jpg
END:VEVENT
BEGIN:VEVENT
DTSTART;TZID=America/New_York:20230323T190000
DTEND;TZID=America/New_York:20230401T190000
DTSTAMP:20260420T063127
CREATED:20230319T181828Z
LAST-MODIFIED:20230319T181828Z
UID:5427-1679598000-1680375600@historicwarfield.com
SUMMARY:Matilda – The Musical (Century Opening Knights)
DESCRIPTION:Roald Dahl’s Matilda\, also known as Matilda or Matilda the Musical\, is a stage musical with music and lyrics by Tim Minchin and a book by Dennis Kelly\, based on the 1988 novel Matilda by Roald Dahl. The musical’s narrative centers on Matilda Wormwood\, a precocious 5-year-old girl with the gift of telekinesis\, who loves reading\, overcomes obstacles caused by her family and school\, and helps her teacher to reclaim her life.
URL:https://historicwarfield.com/event/matilda-the-musical-century-opening-knights/
LOCATION:Century High School 355 Ronsdale Rd\, Sykesville\, MD\, United States
ATTACH;FMTTYPE=image/jpeg:https://historicwarfield.com/wp-content/uploads/2023/03/Matilda-Century.jpg
END:VEVENT
BEGIN:VEVENT
DTSTART;TZID=America/New_York:20230323T183000
DTEND;TZID=America/New_York:20230323T193000
DTSTAMP:20260420T063127
CREATED:20230319T193523Z
LAST-MODIFIED:20230319T193523Z
UID:5508-1679596200-1679599800@historicwarfield.com
SUMMARY:Gentle Yoga
DESCRIPTION:Program Type: Health and Wellness\nAge Group: Teens ( 13 – Adults ) Adults\nRegistration for this event will close on March 23\, 2023 @ 6:30pm.\nAllowed Ages: 13 to Adult\nThere is 1 seat remaining. \nProgram Description\nThis gentle yoga class is designed to allow students of various abilities and physical conditions to comfortably develop their own yoga practice. There are many appealing aspects of yoga\, including increased flexibility\, relaxation\, strength\, improved balance\, as well as stress and pain relief. No experience is necessary. Please wear comfortable clothing; bring a mat and a blanket. \nDisclaimer(s)\nAll attendees need to register.
URL:https://historicwarfield.com/event/gentle-yoga/
LOCATION:Carroll County Public Library – Eldersburg Branch 6400 W Hemlock Dr\, Sykesville\, MD\, United States
ATTACH;FMTTYPE=image/jpeg:https://historicwarfield.com/wp-content/uploads/2023/03/gentle-yoga-spring_0.jpg
END:VEVENT
BEGIN:VEVENT
DTSTART;TZID=America/New_York:20230323T100000
DTEND;TZID=America/New_York:20230323T110000
DTSTAMP:20260420T063127
CREATED:20230319T182535Z
LAST-MODIFIED:20230319T182535Z
UID:5439-1679565600-1679569200@historicwarfield.com
SUMMARY:Read and Play
DESCRIPTION:Program Type: Storytime\nAge Group: Kids ( Birth – 24 Months ) \nProgram Description\nJoin your little one at a storytime featuring interactive books\, rhymes\, music\, and movement\, followed by playgroup activities which allow children to practice skills and socialize.
URL:https://historicwarfield.com/event/read-and-play-3/
LOCATION:Carroll County Public Library – Eldersburg Branch 6400 W Hemlock Dr\, Sykesville\, MD\, United States
ATTACH;FMTTYPE=image/jpeg:https://historicwarfield.com/wp-content/uploads/2023/03/read-play_lm.jpg
END:VEVENT
BEGIN:VEVENT
DTSTART;TZID=America/New_York:20230323T070000
DTEND;TZID=America/New_York:20230323T150000
DTSTAMP:20260420T063127
CREATED:20230319T180304Z
LAST-MODIFIED:20230319T180304Z
UID:5406-1679554800-1679583600@historicwarfield.com
SUMMARY:Pop-Up Park Picnic: Couple Date Night (Self-Guided) - Sykesville Area
DESCRIPTION:
URL:https://historicwarfield.com/event/pop-up-park-picnic-couple-date-night-self-guided-sykesville-area-2/
LOCATION:Piney Run Park 30 Martz Rd\, Sykesville\, MD\, United States
ATTACH;FMTTYPE=image/jpeg:https://historicwarfield.com/wp-content/uploads/2023/03/276eb510-b2a8-11ed-b09b-716f200eedc8-rimg-w720-h540-gmir.jpg
END:VEVENT
BEGIN:VEVENT
DTSTART;TZID=America/New_York:20230322T190000
DTEND;TZID=America/New_York:20230322T190000
DTSTAMP:20260420T063127
CREATED:20230319T183834Z
LAST-MODIFIED:20230319T183834Z
UID:5454-1679511600-1679511600@historicwarfield.com
SUMMARY:Historic District Commission Meeting
DESCRIPTION:
URL:https://historicwarfield.com/event/historic-district-commission-meeting/
LOCATION:Downtown Sykesville Connection 7566 Main Street\, Spout Hill Rd #302\, Sykesville\, MD\, United States
END:VEVENT
BEGIN:VEVENT
DTSTART;TZID=America/New_York:20230322T183000
DTEND;TZID=America/New_York:20230322T213000
DTSTAMP:20260420T063127
CREATED:20230319T181241Z
LAST-MODIFIED:20230319T181241Z
UID:5419-1679509800-1679520600@historicwarfield.com
SUMMARY:Sykesville Line Dance Party
DESCRIPTION:
URL:https://historicwarfield.com/event/sykesville-line-dance-party-2/
LOCATION:Legacy Hall 6680 Sykesville Rd\, Sykesville\, MD\, United States
ATTACH;FMTTYPE=image/jpeg:https://historicwarfield.com/wp-content/uploads/2023/03/3ed1fc00-b2bf-11ed-8b2e-6b33d62d37d8-rimg-w720-h360-gmir.jpg
END:VEVENT
END:VCALENDAR