BEGIN:VCALENDAR
VERSION:2.0
PRODID:-//Warfield at Historic Sykesville - ECPv6.15.20//NONSGML v1.0//EN
CALSCALE:GREGORIAN
METHOD:PUBLISH
X-ORIGINAL-URL:https://historicwarfield.com
X-WR-CALDESC:Events for Warfield at Historic Sykesville
REFRESH-INTERVAL;VALUE=DURATION:PT1H
X-Robots-Tag:noindex
X-PUBLISHED-TTL:PT1H
BEGIN:VTIMEZONE
TZID:America/New_York
BEGIN:DAYLIGHT
TZOFFSETFROM:-0500
TZOFFSETTO:-0400
TZNAME:EDT
DTSTART:20220313T070000
END:DAYLIGHT
BEGIN:STANDARD
TZOFFSETFROM:-0400
TZOFFSETTO:-0500
TZNAME:EST
DTSTART:20221106T060000
END:STANDARD
BEGIN:DAYLIGHT
TZOFFSETFROM:-0500
TZOFFSETTO:-0400
TZNAME:EDT
DTSTART:20230312T070000
END:DAYLIGHT
BEGIN:STANDARD
TZOFFSETFROM:-0400
TZOFFSETTO:-0500
TZNAME:EST
DTSTART:20231105T060000
END:STANDARD
BEGIN:DAYLIGHT
TZOFFSETFROM:-0500
TZOFFSETTO:-0400
TZNAME:EDT
DTSTART:20240310T070000
END:DAYLIGHT
BEGIN:STANDARD
TZOFFSETFROM:-0400
TZOFFSETTO:-0500
TZNAME:EST
DTSTART:20241103T060000
END:STANDARD
END:VTIMEZONE
BEGIN:VEVENT
DTSTART;TZID=America/New_York:20230720T080000
DTEND;TZID=America/New_York:20230723T170000
DTSTAMP:20260420T025045
CREATED:20230716T184545Z
LAST-MODIFIED:20230716T184545Z
UID:5823-1689840000-1690131600@historicwarfield.com
SUMMARY:The Mid-Atlantic Championships
DESCRIPTION:The Mid-Atlantic Championships is a baseball tournament that takes place in Towson\, MD Read more on Travel Sports
URL:https://historicwarfield.com/event/the-mid-atlantic-championships/
LOCATION:John B. Schuerholz Park Towson\, MD\, United States
ATTACH;FMTTYPE=image/jpeg:https://historicwarfield.com/wp-content/uploads/2023/07/images-6.jpeg
END:VEVENT
BEGIN:VEVENT
DTSTART;TZID=America/New_York:20230719T183000
DTEND;TZID=America/New_York:20230719T213000
DTSTAMP:20260420T025045
CREATED:20230716T163113Z
LAST-MODIFIED:20230716T163113Z
UID:5648-1689791400-1689802200@historicwarfield.com
SUMMARY:Sykesville Line Dance Party
DESCRIPTION:Line Dancing in Sykesville Maryland About this Event Wednesday Night Line Dancing with DJ Jerry…Read more on AllEvents.in
URL:https://historicwarfield.com/event/sykesville-line-dance-party-4/
LOCATION:Legacy Hall 6680 Sykesville Rd\, Sykesville\, MD\, United States
ATTACH;FMTTYPE=image/jpeg:https://historicwarfield.com/wp-content/uploads/2023/07/44fcfec14da7dc0ff52003a18db3fcab7395eb0b4214d3917ff2d0de77d3a9a2-rimg-w1200-h600-gmir.jpg
END:VEVENT
BEGIN:VEVENT
DTSTART;TZID=America/New_York:20230719T180000
DTEND;TZID=America/New_York:20230719T194500
DTSTAMP:20260420T025045
CREATED:20230716T181644Z
LAST-MODIFIED:20230716T181644Z
UID:5766-1689789600-1689795900@historicwarfield.com
SUMMARY:Eldersburg Hooked on Crochet
DESCRIPTION:Join this friendly crochet group open to beginners and experienced crocheters alike. Those new to crocheting should bring a size J hook and a light-colored\, worsted-weight yarn to the class. Read more on Carroll County Public Library
URL:https://historicwarfield.com/event/eldersburg-hooked-on-crochet-2/
LOCATION:Carroll County Public Library – Eldersburg Branch 6400 W Hemlock Dr\, Sykesville\, MD\, United States
ATTACH;FMTTYPE=image/jpeg:https://historicwarfield.com/wp-content/uploads/2023/07/Hooked-on-Crochet-summer-2023_lm.jpg
END:VEVENT
BEGIN:VEVENT
DTSTART;TZID=America/New_York:20230719T180000
DTEND;TZID=America/New_York:20230719T193000
DTSTAMP:20260420T025045
CREATED:20230716T162406Z
LAST-MODIFIED:20230716T162544Z
UID:5639-1689789600-1689795000@historicwarfield.com
SUMMARY:Water Safety for Kids
DESCRIPTION:Kids can learn water safety – with or without access to a pool – and gain important information on safe behavior in\, on and around the water…Read more on Eventbrite
URL:https://historicwarfield.com/event/water-safety-for-kids/
LOCATION:Winfield & Community Fire Co 1320 W Old Liberty Rd\, Sykesville\, MD\, United States
ATTACH;FMTTYPE=image/jpeg:https://historicwarfield.com/wp-content/uploads/2023/07/https___cdn.evbuc_.com_images_533108139_289327335861_1_original.jpeg
END:VEVENT
BEGIN:VEVENT
DTSTART;TZID=America/New_York:20230719T140000
DTEND;TZID=America/New_York:20230719T150000
DTSTAMP:20260420T025045
CREATED:20230716T173948Z
LAST-MODIFIED:20230716T173948Z
UID:5753-1689775200-1689778800@historicwarfield.com
SUMMARY:Elementary STEM: Birds of Flight
DESCRIPTION:Birds are one of three groups of animals that have evolved the ability to fly (along with insects and bats). But why do birds fly? And how do they do it? Join us to discover the answer to these…Read more on Carroll County Public Library
URL:https://historicwarfield.com/event/elementary-stem-birds-of-flight/
LOCATION:Carroll County Public Library – Eldersburg Branch 6400 W Hemlock Dr\, Sykesville\, MD\, United States
ATTACH;FMTTYPE=image/jpeg:https://historicwarfield.com/wp-content/uploads/2023/07/Elem-STEM-Birds-Flight_lm.jpg
END:VEVENT
BEGIN:VEVENT
DTSTART;TZID=America/New_York:20230718T183000
DTEND;TZID=America/New_York:20230718T213000
DTSTAMP:20260420T025045
CREATED:20230716T163339Z
LAST-MODIFIED:20230716T163339Z
UID:5650-1689705000-1689715800@historicwarfield.com
SUMMARY:Paint Your Pet! Sykesville\, Stratosphere Social with Artist Katie Detrich!
DESCRIPTION:Join Artist Katie Detrich\, owner of Welcome to Neverland School of Imagination\, at Stratosphere Social! Katie will guide you through the creative process while you enjoy time with friends and…Read more on Eventbrite
URL:https://historicwarfield.com/event/paint-your-pet-sykesville-stratosphere-social-with-artist-katie-detrich/
LOCATION:Stratosphere Social 1332 Londontown Blvd\, Eldersburg\, MD\, United States
ATTACH;FMTTYPE=image/jpeg:https://historicwarfield.com/wp-content/uploads/2023/07/https___cdn.evbuc_.com_images_450266239_163831396843_1_original.jpg
END:VEVENT
BEGIN:VEVENT
DTSTART;TZID=America/New_York:20230718T173000
DTEND;TZID=America/New_York:20230718T200000
DTSTAMP:20260420T025045
CREATED:20230716T184200Z
LAST-MODIFIED:20230716T184200Z
UID:5819-1689701400-1689710400@historicwarfield.com
SUMMARY:Deven’s Deals Mommy Speed Dating 7/18
DESCRIPTION:? Invitation to Mommy Speed Dating Event ? We are thrilled to invite you to our highly anticipated Mommy Speed Dating Event! This unique gathering is designed to connect wonderful mothers like you…Read more on AllEvents.in
URL:https://historicwarfield.com/event/devens-deals-mommy-speed-dating-7-18/
LOCATION:Genova’s To Go 1834 Liberty Rd\, Eldersburg\, MD\, United States
ATTACH;FMTTYPE=image/jpeg:https://historicwarfield.com/wp-content/uploads/2023/07/4006678b76b0aeb33a1da9abe12832cc8f0fe03759a4c03d45fc2690f2de0efe-rimg-w960-h540-gmir.jpg
END:VEVENT
BEGIN:VEVENT
DTSTART;TZID=America/New_York:20230718T110000
DTEND;TZID=America/New_York:20230718T120000
DTSTAMP:20260420T025045
CREATED:20230716T164122Z
LAST-MODIFIED:20230716T164122Z
UID:5659-1689678000-1689681600@historicwarfield.com
SUMMARY:Pajama Party Storytime
DESCRIPTION:Wear your pajamas\, bring your favorite stuffed animal\, and listen to stories before bed. This storytime introduces stories through books\, songs\, and activities appropriate for young children…Read more on Carroll County Public Library
URL:https://historicwarfield.com/event/pajama-party-storytime/
LOCATION:Carroll County Public Library – Eldersburg Branch 6400 W Hemlock Dr\, Sykesville\, MD\, United States
ATTACH;FMTTYPE=image/jpeg:https://historicwarfield.com/wp-content/uploads/2023/07/pj-party_lm.jpg
END:VEVENT
BEGIN:VEVENT
DTSTART;TZID=America/New_York:20230718T100000
DTEND;TZID=America/New_York:20230718T110000
DTSTAMP:20260420T025045
CREATED:20230716T164426Z
LAST-MODIFIED:20230716T164426Z
UID:5666-1689674400-1689678000@historicwarfield.com
SUMMARY:Read and Play
DESCRIPTION:
URL:https://historicwarfield.com/event/read-and-play-7/
LOCATION:Carroll County Public Library – Eldersburg Branch 6400 W Hemlock Dr\, Sykesville\, MD\, United States
ATTACH;FMTTYPE=image/jpeg:https://historicwarfield.com/wp-content/uploads/2023/07/read-play_lm.jpg
END:VEVENT
BEGIN:VEVENT
DTSTART;TZID=America/New_York:20230717T190000
DTEND;TZID=America/New_York:20230722T230000
DTSTAMP:20260420T025045
CREATED:20230716T183624Z
LAST-MODIFIED:20230716T183716Z
UID:5811-1689620400-1690066800@historicwarfield.com
SUMMARY:Reese & Community Volunteer Fire Dept. Annual Carnival
DESCRIPTION:Open Daily 6-11pm Midway: Deggeller Attractions Image Credit: Reese & Community Fire Co Read more on AllEvents.in
URL:https://historicwarfield.com/event/reese-community-volunteer-fire-dept-annual-carnival/
LOCATION:Reese Volunteer Fire Company 1745 Baltimore Blvd\, Westminster\, MD\, United States
ATTACH;FMTTYPE=image/jpeg:https://historicwarfield.com/wp-content/uploads/2023/07/images-5.jpeg
END:VEVENT
BEGIN:VEVENT
DTSTART;TZID=America/New_York:20230717T100000
DTEND;TZID=America/New_York:20230717T110000
DTSTAMP:20260420T025045
CREATED:20230716T173041Z
LAST-MODIFIED:20230716T173041Z
UID:5734-1689588000-1689591600@historicwarfield.com
SUMMARY:Three Billy Goats Gruff Puppet Show
DESCRIPTION:The Three Billy Goats Gruff are heading off on a road trip to the ocean for fun in the sun! Oh no\, the cranky\, stinky troll won’t let them cross the bridge to get to the beach! What’s a goat to…Read more on Carroll County Public Library
URL:https://historicwarfield.com/event/three-billy-goats-gruff-puppet-show/
LOCATION:Carroll County Public Library – Eldersburg Branch 6400 W Hemlock Dr\, Sykesville\, MD\, United States
ATTACH;FMTTYPE=image/jpeg:https://historicwarfield.com/wp-content/uploads/2023/07/Three-Billy-Goats-Gruff-lm_0.jpg
END:VEVENT
BEGIN:VEVENT
DTSTART;TZID=America/New_York:20230716T133000
DTEND;TZID=America/New_York:20230716T150000
DTSTAMP:20260420T025045
CREATED:20230716T141717Z
LAST-MODIFIED:20230716T141717Z
UID:5601-1689514200-1689519600@historicwarfield.com
SUMMARY:Summer Charcuterie Workshop at 1623 Brewery Taproom
DESCRIPTION:Ticket Sales also on our Website (same Eventbrite cost after processing) Join Us for an evening making photo worthy charcuterie boards Read more on Eventbrite
URL:https://historicwarfield.com/event/summer-charcuterie-workshop-at-1623-brewery-taproom/
LOCATION:1623 Brewing Company 5975 Exchange Dr Suite H-L\, Eldersburg\, MD\, United States
ATTACH;FMTTYPE=image/jpeg:https://historicwarfield.com/wp-content/uploads/2023/07/https___cdn.evbuc_.com_images_519264059_225021278553_1_original.jpeg
END:VEVENT
BEGIN:VEVENT
DTSTART;TZID=America/New_York:20230716T110000
DTEND;TZID=America/New_York:20230716T190000
DTSTAMP:20260420T025045
CREATED:20230716T141425Z
LAST-MODIFIED:20230716T141425Z
UID:5598-1689505200-1689534000@historicwarfield.com
SUMMARY:Pop-Up Park Picnic: Couple Date Night (Self-Guided) - Sykesville Area
DESCRIPTION:Pop-Up Picnic in the Park Couple Date Night (Self-Guided) Watch sunset with fun digital activities over picnic! About this Event Read more on AllEvents.in
URL:https://historicwarfield.com/event/pop-up-park-picnic-couple-date-night-self-guided-sykesville-area-6/
LOCATION:30 Martz Rd\, Sykesville\, MD\, USA
ATTACH;FMTTYPE=image/jpeg:https://historicwarfield.com/wp-content/uploads/2023/07/bf691356cd7f41be355adf94c717a503db9630b45b2db4033798d3f5f7b8ce5a-rimg-w612-h408-gmir.jpg
END:VEVENT
BEGIN:VEVENT
DTSTART;TZID=America/New_York:20230716T090000
DTEND;TZID=America/New_York:20230716T130000
DTSTAMP:20260420T025045
CREATED:20230716T142258Z
LAST-MODIFIED:20230716T142258Z
UID:5606-1689498000-1689512400@historicwarfield.com
SUMMARY:Farmers Market
DESCRIPTION:Event Details: The Downtown Sykesville Farmers Market features local meat and produce vendors as well as artisans\, children’s activities and more! While here\, head up the hill and visit Little…Read more on Sykesville Farmers Market – Carroll County Tourism | Carroll County\, Maryland
URL:https://historicwarfield.com/event/farmers-market/
LOCATION:Sykesville\, MD\, USA
ATTACH;FMTTYPE=image/jpeg:https://historicwarfield.com/wp-content/uploads/2023/07/event_sykesvillefarmersmarket.jpg
END:VEVENT
BEGIN:VEVENT
DTSTART;TZID=America/New_York:20230716T090000
DTEND;TZID=America/New_York:20230716T130000
DTSTAMP:20260420T025045
CREATED:20230716T141204Z
LAST-MODIFIED:20230716T141204Z
UID:5594-1689498000-1689512400@historicwarfield.com
SUMMARY:Woodie at Sykesville Farmers Market
DESCRIPTION:Join us 9:00 am – 1:00 pm in downtown Sykesville for the weekly seasonal farmers market! Woodie will be in attendance on select weekends. Please see full calendar at thewoodieco.com/calendar Our…Read more on AllEvents.in
URL:https://historicwarfield.com/event/woodie-at-sykesville-farmers-market/
LOCATION:Downtown Sykesville Farmers Market 7565 Main St\, Sykesville\, MD\, United States
ATTACH;FMTTYPE=image/jpeg:https://historicwarfield.com/wp-content/uploads/2023/07/fa3cdf7704f9768b9a650c39f5a8e6b8218d603f85f6214573bb69d0b34216c0-rimg-w960-h640-gmir.jpg
END:VEVENT
BEGIN:VEVENT
DTSTART;TZID=America/New_York:20230716T080000
DTEND;TZID=America/New_York:20230716T170000
DTSTAMP:20260420T025045
CREATED:20230716T193920Z
LAST-MODIFIED:20230716T193920Z
UID:5895-1689494400-1689526800@historicwarfield.com
SUMMARY:Treasure Chest
DESCRIPTION:Book Treasure Chest from The Home Depot. Read Reviews. See Dates & Availability. On ActivityHero.com\, your one-stop shop for camps & classes. Read more on ActivityHero
URL:https://historicwarfield.com/event/treasure-chest/
LOCATION:1326 Londontown Blvd\, Sykesville\, MD\, USA
ATTACH;FMTTYPE=image/jpeg:https://historicwarfield.com/wp-content/uploads/2023/07/images345234df.jpg
END:VEVENT
BEGIN:VEVENT
DTSTART;TZID=America/New_York:20230716T080000
DTEND;TZID=America/New_York:20230716T170000
DTSTAMP:20260420T025045
CREATED:20230716T193543Z
LAST-MODIFIED:20230716T193543Z
UID:5888-1689494400-1689526800@historicwarfield.com
SUMMARY:Sykesville Cinema Presents Encanto
DESCRIPTION:Sykesville Cinema continues with a 16’ inflatable movie screen and a powerful audio and video system with quality-run movie performances under the stars. Each show begins around dusk\, with…Read more on AllEvents.in
URL:https://historicwarfield.com/event/sykesville-cinema-presents-encanto/
LOCATION:Millard Cooper Park 7282 Cooper Dr\, Sykesville\, MD\, United States
ATTACH;FMTTYPE=image/webp:https://historicwarfield.com/wp-content/uploads/2023/07/6e051ad68d87c184d31121062866a41453ed08162342efba9b0d053014dc314f-rimg-w960-h496-gmir.webp
END:VEVENT
BEGIN:VEVENT
DTSTART;TZID=America/New_York:20230716T080000
DTEND;TZID=America/New_York:20230716T170000
DTSTAMP:20260420T025045
CREATED:20230716T193045Z
LAST-MODIFIED:20230716T193045Z
UID:5878-1689494400-1689526800@historicwarfield.com
SUMMARY:Downtown Sykesville Farmers Market
DESCRIPTION:Season:Summer and Fall Market Hours:May 21 – October 29\, 2023Every Sunday 9am – 1pmLocation:Baldwin Drive Read more on local AARP
URL:https://historicwarfield.com/event/downtown-sykesville-farmers-market-5/
LOCATION:Downtown Sykesville Farmers Market 7565 Main St\, Sykesville\, MD\, United States
ATTACH;FMTTYPE=image/jpeg:https://historicwarfield.com/wp-content/uploads/2023/07/images.jpg
END:VEVENT
BEGIN:VEVENT
DTSTART;TZID=America/New_York:20230716T080000
DTEND;TZID=America/New_York:20230716T170000
DTSTAMP:20260420T025045
CREATED:20230716T191341Z
LAST-MODIFIED:20230716T191341Z
UID:5865-1689494400-1689526800@historicwarfield.com
SUMMARY:Woodie at Sykesville Farmers Market
DESCRIPTION:Join us 9:00 am – 1:00 pm in downtown Sykesville for the weekly seasonal farmers market! Woodie will be in attendance on select weekends. Please see full calendar at thewoodieco.com/calendar Our…Read more on AllEvents.in
URL:https://historicwarfield.com/event/woodie-at-sykesville-farmers-market-2/
LOCATION:Downtown Sykesville Farmers Market 7565 Main St\, Sykesville\, MD\, United States
ATTACH;FMTTYPE=image/jpeg:https://historicwarfield.com/wp-content/uploads/2023/07/imagese34234.jpg
END:VEVENT
BEGIN:VEVENT
DTSTART;TZID=America/New_York:20230716T080000
DTEND;TZID=America/New_York:20230716T140000
DTSTAMP:20260420T025045
CREATED:20230716T172156Z
LAST-MODIFIED:20230716T172156Z
UID:5722-1689494400-1689516000@historicwarfield.com
SUMMARY:Flea Markets 2023
DESCRIPTION:St Paul\’s Flea Markets 2023 Over 70 vendor spaces! 3rd Saturdays\, April-Oct: April 15\, May 20\, June 17\, July 15\, August 19\, September 16\, October 21 St Paul\’s Church 15773 […]\nRead more on Carroll Magazine
URL:https://historicwarfield.com/event/flea-markets-2023/
LOCATION:St Paul’s Lutheran Church 15773 Dover Rd\, Upperco\, MD\, United States
END:VEVENT
BEGIN:VEVENT
DTSTART;TZID=America/New_York:20230715T180000
DTEND;TZID=America/New_York:20230715T200000
DTSTAMP:20260420T025045
CREATED:20230716T140332Z
LAST-MODIFIED:20230716T140332Z
UID:5588-1689444000-1689451200@historicwarfield.com
SUMMARY:Music at Tiki Bar with Bill Park
DESCRIPTION:
URL:https://historicwarfield.com/event/music-at-tiki-bar-with-bill-park/
LOCATION:Amante Pizza & Pasta 21 Liberty Rd\, Sykesville\, MD\, United States
ATTACH;FMTTYPE=image/jpeg:https://historicwarfield.com/wp-content/uploads/2023/07/images-1.jpeg
END:VEVENT
BEGIN:VEVENT
DTSTART;TZID=America/New_York:20230714T190000
DTEND;TZID=America/New_York:20230714T190000
DTSTAMP:20260420T025045
CREATED:20230716T140752Z
LAST-MODIFIED:20230716T140752Z
UID:5592-1689361200-1689361200@historicwarfield.com
SUMMARY:Dean Crawford and the Dunn's River Band @ Winfield Carnival
DESCRIPTION:We’re back at the great WINFIELD CARNIVAL and we can’t wait to see you all again! Show starts at approximately 7pm so grab your chairs\, your family and friends and meet us at the stage! See you soon!Read more on AllEvents.in
URL:https://historicwarfield.com/event/dean-crawford-and-the-dunns-river-band-winfield-carnival/
LOCATION:Winfield & Community Fire Co 1320 W Old Liberty Rd\, Sykesville\, MD\, United States
END:VEVENT
BEGIN:VEVENT
DTSTART;TZID=America/New_York:20230714T180000
DTEND;TZID=America/New_York:20230714T180000
DTSTAMP:20260420T025045
CREATED:20230716T135859Z
LAST-MODIFIED:20230716T135859Z
UID:5584-1689357600-1689357600@historicwarfield.com
SUMMARY:Garrett Mabe @ The Vine on Main
DESCRIPTION:
URL:https://historicwarfield.com/event/garrett-mabe-the-vine-on-main/
LOCATION:The Vine on Main 7615 Main St\, Sykesville\, MD\, United States
ATTACH;FMTTYPE=image/jpeg:https://historicwarfield.com/wp-content/uploads/2023/07/images.jpeg
END:VEVENT
BEGIN:VEVENT
DTSTART;TZID=America/New_York:20230331T190000
DTEND;TZID=America/New_York:20230331T210000
DTSTAMP:20260420T025045
CREATED:20230319T182000Z
LAST-MODIFIED:20230319T182000Z
UID:5430-1680289200-1680296400@historicwarfield.com
SUMMARY:Opening Knights present Matilda--The Musical
DESCRIPTION:
URL:https://historicwarfield.com/event/opening-knights-present-matilda-the-musical-2/
LOCATION:Century High School 355 Ronsdale Rd\, Sykesville\, MD\, United States
END:VEVENT
BEGIN:VEVENT
DTSTART;TZID=America/New_York:20230331T100000
DTEND;TZID=America/New_York:20230331T110000
DTSTAMP:20260420T025045
CREATED:20230319T184245Z
LAST-MODIFIED:20230319T184245Z
UID:5460-1680256800-1680260400@historicwarfield.com
SUMMARY:Meet Pete the Cat: Storytime and Book Giveaway
DESCRIPTION:Program Type: Storytime\nAge Group: Kids ( Birth – 5 ) \nProgram Description\nCome rock with Pete the Cat in his school shoes! Enjoy stories\, songs\, crafts\, and attendees will get a free copy of Pete the Cat: Rocking in My School Shoes to take home.
URL:https://historicwarfield.com/event/meet-pete-the-cat-storytime-and-book-giveaway/
LOCATION:Carroll County Public Library – Eldersburg Branch 6400 W Hemlock Dr\, Sykesville\, MD\, United States
ATTACH;FMTTYPE=image/jpeg:https://historicwarfield.com/wp-content/uploads/2023/03/Meet-Pete-the-Cat_lm.jpg
END:VEVENT
BEGIN:VEVENT
DTSTART;TZID=America/New_York:20230330T110000
DTEND;TZID=America/New_York:20230330T120000
DTSTAMP:20260420T025045
CREATED:20230319T183516Z
LAST-MODIFIED:20230319T183516Z
UID:5449-1680174000-1680177600@historicwarfield.com
SUMMARY:Family Storytime
DESCRIPTION:Program Type: Storytime\nAge Group: Kids ( Birth – 8 ) \nProgram Description\nWe’ll share books\, stories\, rhymes\, music\, and movement. Come talk\, sing\, read\, write\, and play together in a format appropriate for young children.
URL:https://historicwarfield.com/event/family-storytime/
LOCATION:Carroll County Public Library – Eldersburg Branch 6400 W Hemlock Dr\, Sykesville\, MD\, United States
ATTACH;FMTTYPE=image/jpeg:https://historicwarfield.com/wp-content/uploads/2023/03/family-storytime_lm.jpg
END:VEVENT
BEGIN:VEVENT
DTSTART;TZID=America/New_York:20230330T070000
DTEND;TZID=America/New_York:20230330T150000
DTSTAMP:20260420T025045
CREATED:20230319T180449Z
LAST-MODIFIED:20230319T180449Z
UID:5409-1680159600-1680188400@historicwarfield.com
SUMMARY:Pop-Up Park Picnic: Couple Date Night (Self-Guided) - Sykesville Area
DESCRIPTION:
URL:https://historicwarfield.com/event/pop-up-park-picnic-couple-date-night-self-guided-sykesville-area-3/
LOCATION:Piney Run Park 30 Martz Rd\, Sykesville\, MD\, United States
ATTACH;FMTTYPE=image/jpeg:https://historicwarfield.com/wp-content/uploads/2023/03/a5e0172d3eafcd26e9481630ca49177a37cf106f76a21eaec42c4328c8a88d55-rimg-w612-h408-gmir.jpg
END:VEVENT
BEGIN:VEVENT
DTSTART;TZID=America/New_York:20230329T183000
DTEND;TZID=America/New_York:20230329T213000
DTSTAMP:20260420T025045
CREATED:20230319T180000Z
LAST-MODIFIED:20230319T180000Z
UID:5401-1680114600-1680125400@historicwarfield.com
SUMMARY:Sykesville Line Dance Party
DESCRIPTION:Sykesville Line Dance Party\nLine Dancing in Sykesville Maryland \nAbout this Event \nWednesday Night Line Dancing with DJ Jerry\nFun thing to do or date night in Sykesville at the Fire Hall. \nProceeds benefit Station #12. \n7 – 9:30pm | Doors Open at 6:30pm | Admission Charged at the Door \nBeginners are Welcome | All Types of Music | Casual Attire | Free Parking \nEnter the dance in the rear of the building off Freedom Avenue. \nDo you want to practice the dances? \nGet them on DJ Jerry Wayne’s facebook page here: \nFor more information vist our fundraising page at https://sykesvillefire.org. \nAlso check out other Parties in Sykesville\, Entertainment Events in Sykesville\, Music Events in Sykesville.
URL:https://historicwarfield.com/event/sykesville-line-dance-party/
LOCATION:Legacy Hall 6680 Sykesville Rd\, Sykesville\, MD\, United States
END:VEVENT
BEGIN:VEVENT
DTSTART;TZID=America/New_York:20230329T180000
DTEND;TZID=America/New_York:20230329T194500
DTSTAMP:20260420T025045
CREATED:20230319T194034Z
LAST-MODIFIED:20230319T194034Z
UID:5514-1680112800-1680119100@historicwarfield.com
SUMMARY:Eldersburg Hooked on Crochet
DESCRIPTION:Program Type: DIY Arts and Crafts\nAge Group: Teens ( 12 – Adults ) Adults \nProgram Description\nJoin this friendly crochet group that is open to both beginners and experienced crocheters alike. Those new to crocheting should bring a size J hook and a light-colored\, worsted-weight yarn to the class.
URL:https://historicwarfield.com/event/eldersburg-hooked-on-crochet/
LOCATION:Carroll County Public Library – Eldersburg Branch 6400 W Hemlock Dr\, Sykesville\, MD\, United States
ATTACH;FMTTYPE=image/jpeg:https://historicwarfield.com/wp-content/uploads/2023/03/Hooked-on-Crochet-spring-2023_lm.jpg
END:VEVENT
BEGIN:VEVENT
DTSTART;TZID=America/New_York:20230329T160000
DTEND;TZID=America/New_York:20230329T190000
DTSTAMP:20260420T025045
CREATED:20230319T173908Z
LAST-MODIFIED:20230319T173908Z
UID:5384-1680105600-1680116400@historicwarfield.com
SUMMARY:Sweet Simplici-tea Tea Room in Sykesville\, MD - A Victorian Tea House
DESCRIPTION:Details\nhttps://www.sweetsimplicitea.com/ \nAbove is the link for the website. \nSweet Simplici-Tea prides itself on being a place where our guests can come and relax in a lovely Victorian setting\, enjoy delectable foods and tea steeped to perfection. It is a place to escape for a short period of time the busyness of life\, to catch up on relationships and friendships. \nThey offer a variety of different teas\, sweet treats\, salads and other menu items as described in the link above. \nPlease look over the menu and called the tearoom or fill out the form for your choice of food before this Meetup. \nThey can also make gluten free scones and desserts.
URL:https://historicwarfield.com/event/sweet-simplici-tea-tea-room-in-sykesville-md-a-victorian-tea-house/
LOCATION:The isabel building\, 7540 Main St\, Sykesville\, MD\, USA
END:VEVENT
END:VCALENDAR