BEGIN:VCALENDAR
VERSION:2.0
PRODID:-//Warfield at Historic Sykesville - ECPv6.15.20//NONSGML v1.0//EN
CALSCALE:GREGORIAN
METHOD:PUBLISH
X-WR-CALNAME:Warfield at Historic Sykesville
X-ORIGINAL-URL:https://historicwarfield.com
X-WR-CALDESC:Events for Warfield at Historic Sykesville
REFRESH-INTERVAL;VALUE=DURATION:PT1H
X-Robots-Tag:noindex
X-PUBLISHED-TTL:PT1H
BEGIN:VTIMEZONE
TZID:America/New_York
BEGIN:DAYLIGHT
TZOFFSETFROM:-0500
TZOFFSETTO:-0400
TZNAME:EDT
DTSTART:20220313T070000
END:DAYLIGHT
BEGIN:STANDARD
TZOFFSETFROM:-0400
TZOFFSETTO:-0500
TZNAME:EST
DTSTART:20221106T060000
END:STANDARD
BEGIN:DAYLIGHT
TZOFFSETFROM:-0500
TZOFFSETTO:-0400
TZNAME:EDT
DTSTART:20230312T070000
END:DAYLIGHT
BEGIN:STANDARD
TZOFFSETFROM:-0400
TZOFFSETTO:-0500
TZNAME:EST
DTSTART:20231105T060000
END:STANDARD
BEGIN:DAYLIGHT
TZOFFSETFROM:-0500
TZOFFSETTO:-0400
TZNAME:EDT
DTSTART:20240310T070000
END:DAYLIGHT
BEGIN:STANDARD
TZOFFSETFROM:-0400
TZOFFSETTO:-0500
TZNAME:EST
DTSTART:20241103T060000
END:STANDARD
END:VTIMEZONE
BEGIN:VEVENT
DTSTART;TZID=America/New_York:20230728T190000
DTEND;TZID=America/New_York:20230728T213000
DTSTAMP:20260419T195541
CREATED:20230716T183011Z
LAST-MODIFIED:20230716T183011Z
UID:5794-1690570800-1690579800@historicwarfield.com
SUMMARY:It's a Pirate Murder Mystery at 1623 Brewing Company
DESCRIPTION:It’s a Pirate Murder Mystery at the brewery where all attendees are interactive characters working together to solve the murder! Read more on Eventbrite
URL:https://historicwarfield.com/event/its-a-pirate-murder-mystery-at-1623-brewing-company/
LOCATION:1623 Brewing Company 5975 Exchange Dr Suite H-L\, Eldersburg\, MD\, United States
ATTACH;FMTTYPE=image/jpeg:https://historicwarfield.com/wp-content/uploads/2023/07/https___cdn.evbuc_.com_images_478546139_1252983776013_1_original.jpg
END:VEVENT
BEGIN:VEVENT
DTSTART;TZID=America/New_York:20230728T110000
DTEND;TZID=America/New_York:20230728T190000
DTSTAMP:20260419T195541
CREATED:20230716T170531Z
LAST-MODIFIED:20230716T170531Z
UID:5689-1690542000-1690570800@historicwarfield.com
SUMMARY:Pop-Up Park Picnic: Couple Date Night (Self-Guided) - Sykesville Area
DESCRIPTION:Pop-Up Picnic in the Park Couple Date Night (Self-Guided) Watch sunset with fun digital activities over picnic! About this Event…Read more on AllEvents.in
URL:https://historicwarfield.com/event/pop-up-park-picnic-couple-date-night-self-guided-sykesville-area-13/
LOCATION:30 Martz Rd\, Sykesville\, MD\, USA
ATTACH;FMTTYPE=image/jpeg:https://historicwarfield.com/wp-content/uploads/2023/07/bf691356cd7f41be355adf94c717a503db9630b45b2db4033798d3f5f7b8ce5a-rimg-w612-h408-gmir.jpg
END:VEVENT
BEGIN:VEVENT
DTSTART;TZID=America/New_York:20230727T190000
DTEND;TZID=America/New_York:20230727T190000
DTSTAMP:20260419T195541
CREATED:20230716T171322Z
LAST-MODIFIED:20230716T171322Z
UID:5703-1690484400-1690484400@historicwarfield.com
SUMMARY:Summer Lecture Series – God’s Existence Proven by Reason: St. Thomas Aquinas's De Ente et Essentia
DESCRIPTION:Saint Timothy’s will inaugurate its first Summer Lecture series featuring David Booz. The lectures will begin on Thursday\, June 1 and continue every Thursday (except June 29) at 7 PM in the…Read more on AllEvents.in
URL:https://historicwarfield.com/event/summer-lecture-series-gods-existence-proven-by-reason-st-thomas-aquinass-de-ente-et-essentia/
LOCATION:St. Timothy’s Ordinariate Catholic Church 703 Sandosky Rd\, Sykesville\, MD\, United States
ATTACH;FMTTYPE=image/jpeg:https://historicwarfield.com/wp-content/uploads/2023/07/d94935271df9ed49a0cdf7190f57ad1fd17a7e1cb1875122972da001c7383736-rimg-w960-h540-gmir.jpg
END:VEVENT
BEGIN:VEVENT
DTSTART;TZID=America/New_York:20230727T180000
DTEND;TZID=America/New_York:20230727T200000
DTSTAMP:20260419T195541
CREATED:20230716T171636Z
LAST-MODIFIED:20230716T171636Z
UID:5712-1690480800-1690488000@historicwarfield.com
SUMMARY:1980s Reunion Murder Mystery at Nora's Grill & Bistro
DESCRIPTION:A 1980s Reunion Murder Mystery where all attendees are interactive characters working together to solve this whodunnit! Read more on Eventbrite
URL:https://historicwarfield.com/event/1980s-reunion-murder-mystery-at-noras-grill-bistro/
LOCATION:NORA’S GRILL & BISTRO 6300 Georgetown Blvd\, Sykesville\, MD\, United States
ATTACH;FMTTYPE=image/jpeg:https://historicwarfield.com/wp-content/uploads/2023/07/https___cdn.evbuc_.com_images_545786579_1252983776013_1_original.jpg
END:VEVENT
BEGIN:VEVENT
DTSTART;TZID=America/New_York:20230727T110000
DTEND;TZID=America/New_York:20230727T190000
DTSTAMP:20260419T195541
CREATED:20230716T165312Z
LAST-MODIFIED:20230716T165312Z
UID:5681-1690455600-1690484400@historicwarfield.com
SUMMARY:Pop-Up Park Picnic: Couple Date Night (Self-Guided) - Sykesville Area
DESCRIPTION:Pop-Up Picnic in the Park Couple Date Night (Self-Guided) Watch sunset with fun digital activities over picnic! About this Event…Read more on AllEvents.in
URL:https://historicwarfield.com/event/pop-up-park-picnic-couple-date-night-self-guided-sykesville-area-12/
LOCATION:30 Martz Rd\, Sykesville\, MD\, USA
ATTACH;FMTTYPE=image/jpeg:https://historicwarfield.com/wp-content/uploads/2023/07/bf691356cd7f41be355adf94c717a503db9630b45b2db4033798d3f5f7b8ce5a-rimg-w612-h408-gmir.jpg
END:VEVENT
BEGIN:VEVENT
DTSTART;TZID=America/New_York:20230727T110000
DTEND;TZID=America/New_York:20230727T110000
DTSTAMP:20260419T195541
CREATED:20230716T162706Z
LAST-MODIFIED:20230716T162706Z
UID:5642-1690455600-1690455600@historicwarfield.com
SUMMARY:Sykesville Parks & Recreation Commission (SPARC) Meeting
DESCRIPTION:
URL:https://historicwarfield.com/event/sykesville-parks-recreation-commission-sparc-meeting/
LOCATION:7547 Main St\, Sykesville\, MD\, USA
END:VEVENT
BEGIN:VEVENT
DTSTART;TZID=America/New_York:20230726T190000
DTEND;TZID=America/New_York:20230726T190000
DTSTAMP:20260419T195541
CREATED:20230716T171804Z
LAST-MODIFIED:20230716T171804Z
UID:5716-1690398000-1690398000@historicwarfield.com
SUMMARY:Historic District Commission Meeting
DESCRIPTION:
URL:https://historicwarfield.com/event/historic-district-commission-meeting-2/
LOCATION:Legacy Hall 6680 Sykesville Rd\, Sykesville\, MD\, United States
END:VEVENT
BEGIN:VEVENT
DTSTART;TZID=America/New_York:20230726T183000
DTEND;TZID=America/New_York:20230726T213000
DTSTAMP:20260419T195541
CREATED:20230716T142626Z
LAST-MODIFIED:20230716T142626Z
UID:5610-1690396200-1690407000@historicwarfield.com
SUMMARY:Sykesville Line Dance Party
DESCRIPTION:Line Dancing in Sykesville Maryland About this Event Wednesday Night Line Dancing with DJ Jerry…Read more on AllEvents.in
URL:https://historicwarfield.com/event/sykesville-line-dance-party-3/
LOCATION:Legacy Hall 6680 Sykesville Rd\, Sykesville\, MD\, United States
ATTACH;FMTTYPE=image/jpeg:https://historicwarfield.com/wp-content/uploads/2023/07/44fcfec14da7dc0ff52003a18db3fcab7395eb0b4214d3917ff2d0de77d3a9a2-rimg-w1200-h600-gmir.jpg
END:VEVENT
BEGIN:VEVENT
DTSTART;TZID=America/New_York:20230726T180000
DTEND;TZID=America/New_York:20230726T194500
DTSTAMP:20260419T195541
CREATED:20230716T182415Z
LAST-MODIFIED:20230716T182415Z
UID:5779-1690394400-1690400700@historicwarfield.com
SUMMARY:Eldersburg Hooked on Crochet
DESCRIPTION:Join this friendly crochet group open to beginners and experienced crocheters alike. Those new to crocheting should bring a size J hook and a light-colored\, worsted-weight yarn to the class. Read more on Carroll County Public Library
URL:https://historicwarfield.com/event/eldersburg-hooked-on-crochet-3/
LOCATION:Carroll County Public Library – Eldersburg Branch 6400 W Hemlock Dr\, Sykesville\, MD\, United States
ATTACH;FMTTYPE=image/jpeg:https://historicwarfield.com/wp-content/uploads/2023/07/Hooked-on-Crochet-summer-2023_lm-1.jpg
END:VEVENT
BEGIN:VEVENT
DTSTART;TZID=America/New_York:20230726T140000
DTEND;TZID=America/New_York:20230726T150000
DTSTAMP:20260419T195541
CREATED:20230716T165052Z
LAST-MODIFIED:20230716T165052Z
UID:5678-1690380000-1690383600@historicwarfield.com
SUMMARY:Science Summer Camp
DESCRIPTION:Want to share your love of all things science? Join us for fun with quick science demonstrations! Each session offers a different hands-on activity to explore STEM concepts. Food items will be…Read more on Carroll County Public Library
URL:https://historicwarfield.com/event/science-summer-camp/
LOCATION:Carroll County Public Library – Eldersburg Branch 6400 W Hemlock Dr\, Sykesville\, MD\, United States
ATTACH;FMTTYPE=image/jpeg:https://historicwarfield.com/wp-content/uploads/2023/07/Science-Summer-Camp_lm_1.jpg
END:VEVENT
BEGIN:VEVENT
DTSTART;TZID=America/New_York:20230726T110000
DTEND;TZID=America/New_York:20230726T120000
DTSTAMP:20260419T195541
CREATED:20230716T170750Z
LAST-MODIFIED:20230716T170750Z
UID:5692-1690369200-1690372800@historicwarfield.com
SUMMARY:Move & Groove Storytime
DESCRIPTION:Join us for this energetic and interactive storytime. Explore your favorite children’s books (and find some new ones) through song\, dance\, and creative movement! Read more on Carroll County Public Library
URL:https://historicwarfield.com/event/move-groove-storytime/
LOCATION:Carroll County Public Library – Eldersburg Branch 6400 W Hemlock Dr\, Sykesville\, MD\, United States
ATTACH;FMTTYPE=image/jpeg:https://historicwarfield.com/wp-content/uploads/2023/07/Moove-and-Groove-Storytime-social_lm.jpg
END:VEVENT
BEGIN:VEVENT
DTSTART;TZID=America/New_York:20230726T091500
DTEND;TZID=America/New_York:20230726T130000
DTSTAMP:20260419T195541
CREATED:20230716T172425Z
LAST-MODIFIED:20230716T172425Z
UID:5725-1690362900-1690376400@historicwarfield.com
SUMMARY:Writing Group
DESCRIPTION:Writers of all levels and genres are invited to join our weekly writing group. It is a flexible\, drop-in\, stay-as-long-as-you-like environment. The primary goal is to dedicate quiet time away from…Read more on Carroll County Public Library
URL:https://historicwarfield.com/event/writing-group/
LOCATION:Carroll County Public Library – Eldersburg Branch 6400 W Hemlock Dr\, Sykesville\, MD\, United States
ATTACH;FMTTYPE=image/jpeg:https://historicwarfield.com/wp-content/uploads/2023/07/Writing-group-winter23_lm.jpg
END:VEVENT
BEGIN:VEVENT
DTSTART;TZID=America/New_York:20230725T140000
DTEND;TZID=America/New_York:20230725T150000
DTSTAMP:20260419T195541
CREATED:20230716T174733Z
LAST-MODIFIED:20230716T174733Z
UID:5763-1690293600-1690297200@historicwarfield.com
SUMMARY:Prediabetes Info Session
DESCRIPTION:One in three Americans has prediabetes. Do you? Prediabetes increases the risk of type 2 diabetes\, heart disease\, and stroke. But there is good news. Most prediabetes can be delayed or even…Read more on Carroll County Public Library
URL:https://historicwarfield.com/event/prediabetes-info-session/
LOCATION:Carroll County Public Library – Eldersburg Branch 6400 W Hemlock Dr\, Sykesville\, MD\, United States
ATTACH;FMTTYPE=image/jpeg:https://historicwarfield.com/wp-content/uploads/2023/07/Prediabetes-Info-winter-2023_lm_1.jpg
END:VEVENT
BEGIN:VEVENT
DTSTART;TZID=America/New_York:20230725T110000
DTEND;TZID=America/New_York:20230725T120000
DTSTAMP:20260419T195541
CREATED:20230716T165757Z
LAST-MODIFIED:20230716T165757Z
UID:5683-1690282800-1690286400@historicwarfield.com
SUMMARY:Pajama Party Storytime
DESCRIPTION:Wear your pajamas\, bring your favorite stuffed animal\, and listen to stories before bed. This storytime introduces stories through books\, songs\, and activities appropriate for young children…Read more on Carroll County Public Library
URL:https://historicwarfield.com/event/pajama-party-storytime-2/
LOCATION:Carroll County Public Library – Eldersburg Branch 6400 W Hemlock Dr\, Sykesville\, MD\, United States
ATTACH;FMTTYPE=image/jpeg:https://historicwarfield.com/wp-content/uploads/2023/07/pj-party_lm.jpg
END:VEVENT
BEGIN:VEVENT
DTSTART;TZID=America/New_York:20230725T100000
DTEND;TZID=America/New_York:20230725T110000
DTSTAMP:20260419T195541
CREATED:20230716T164852Z
LAST-MODIFIED:20230716T164852Z
UID:5676-1690279200-1690282800@historicwarfield.com
SUMMARY:Read and Play
DESCRIPTION:
URL:https://historicwarfield.com/event/read-and-play-8/
LOCATION:Carroll County Public Library – Eldersburg Branch 6400 W Hemlock Dr\, Sykesville\, MD\, United States
ATTACH;FMTTYPE=image/jpeg:https://historicwarfield.com/wp-content/uploads/2023/07/read-play_lm.jpg
END:VEVENT
BEGIN:VEVENT
DTSTART;TZID=America/New_York:20230724T150000
DTEND;TZID=America/New_York:20230724T160000
DTSTAMP:20260419T195541
CREATED:20230716T173359Z
LAST-MODIFIED:20230716T173359Z
UID:5741-1690210800-1690214400@historicwarfield.com
SUMMARY:Minecraft Monday
DESCRIPTION:Come play Minecraft with other players on our special library Minecraft server. hr Read more on Carroll County Public Library
URL:https://historicwarfield.com/event/minecraft-monday/
LOCATION:Carroll County Public Library – Eldersburg Branch 6400 W Hemlock Dr\, Sykesville\, MD\, United States
ATTACH;FMTTYPE=image/jpeg:https://historicwarfield.com/wp-content/uploads/2023/07/Minecraft-Monday_lm.jpg
END:VEVENT
BEGIN:VEVENT
DTSTART;TZID=America/New_York:20230724T123000
DTEND;TZID=America/New_York:20230724T143000
DTSTAMP:20260419T195541
CREATED:20230716T182538Z
LAST-MODIFIED:20230716T182538Z
UID:5783-1690201800-1690209000@historicwarfield.com
SUMMARY:Eldersburg Hooked on Crochet
DESCRIPTION:Join this friendly crochet group open to beginners and experienced crocheters alike. Those new to crocheting should bring a size J hook and a light-colored\, worsted-weight yarn to the class. Read more on Carroll County Public Library
URL:https://historicwarfield.com/event/eldersburg-hooked-on-crochet-4/
LOCATION:Carroll County Public Library – Eldersburg Branch 6400 W Hemlock Dr\, Sykesville\, MD\, United States
ATTACH;FMTTYPE=image/jpeg:https://historicwarfield.com/wp-content/uploads/2023/07/Hooked-on-Crochet-summer-2023_lm-1.jpg
END:VEVENT
BEGIN:VEVENT
DTSTART;TZID=America/New_York:20230724T100000
DTEND;TZID=America/New_York:20230724T110000
DTSTAMP:20260419T195541
CREATED:20230716T182228Z
LAST-MODIFIED:20230716T182228Z
UID:5775-1690192800-1690196400@historicwarfield.com
SUMMARY:Ready\, Set\, VIOLIN
DESCRIPTION:Do you have a child that loves the violin\, but you’re not sure if they are ready for lessons? Join the Ready\, Set\, VIOLIN class to find out! This class provides an opportunity to explore violin…Read more on Carroll County Public Library
URL:https://historicwarfield.com/event/ready-set-violin/
LOCATION:Carroll County Public Library – Eldersburg Branch 6400 W Hemlock Dr\, Sykesville\, MD\, United States
ATTACH;FMTTYPE=image/jpeg:https://historicwarfield.com/wp-content/uploads/2023/07/Ready-Set-Violin_lm.jpg
END:VEVENT
BEGIN:VEVENT
DTSTART;TZID=America/New_York:20230723T110000
DTEND;TZID=America/New_York:20230723T190000
DTSTAMP:20260419T195541
CREATED:20230716T162907Z
LAST-MODIFIED:20230716T162907Z
UID:5646-1690110000-1690138800@historicwarfield.com
SUMMARY:Pop-Up Park Picnic: Couple Date Night (Self-Guided) - Sykesville Area
DESCRIPTION:Pop-Up Picnic in the Park Couple Date Night (Self-Guided) Watch sunset with fun digital activities over picnic! About this Event…Read more on AllEvents.in
URL:https://historicwarfield.com/event/pop-up-park-picnic-couple-date-night-self-guided-sykesville-area-8/
LOCATION:30 Martz Rd\, Sykesville\, MD\, USA
ATTACH;FMTTYPE=image/jpeg:https://historicwarfield.com/wp-content/uploads/2023/07/bf691356cd7f41be355adf94c717a503db9630b45b2db4033798d3f5f7b8ce5a-rimg-w612-h408-gmir.jpg
END:VEVENT
BEGIN:VEVENT
DTSTART;TZID=America/New_York:20230723T101500
DTEND;TZID=America/New_York:20230723T101500
DTSTAMP:20260419T195541
CREATED:20230716T161639Z
LAST-MODIFIED:20230716T161752Z
UID:5630-1690107300-1690107300@historicwarfield.com
SUMMARY:Deven's Deals Mermaid Hair at Happy Kids Co.
DESCRIPTION:Glam by Becca is partnering with Deven’s Deals at Happy Kids Co for Mermaid Hair! GRAB YOUR SPOTS HERE- https://devensdeals.com/events/view/219 -12 strands = $26 deposit per spot = ONE appointment…Read more on AllEvents.in
URL:https://historicwarfield.com/event/devens-deals-mermaid-hair-at-happy-kids-co/
LOCATION:Happy Kids Co. Children’s Boutique 7520 Main St Suite 104\, Sykesville\, MD\, United States
ATTACH;FMTTYPE=image/jpeg:https://historicwarfield.com/wp-content/uploads/2023/07/5616c22d3dfeee362d0be47375befa4c5614f54fdde3e97a7acf47199d421bd2-rimg-w800-h600-gmir.jpg
END:VEVENT
BEGIN:VEVENT
DTSTART;TZID=America/New_York:20230723T090000
DTEND;TZID=America/New_York:20230723T130000
DTSTAMP:20260419T195541
CREATED:20230716T173638Z
LAST-MODIFIED:20230716T173638Z
UID:5745-1690102800-1690117200@historicwarfield.com
SUMMARY:Farmers Market
DESCRIPTION:Event Details: The Downtown Sykesville Farmers Market features local meat and produce vendors as well as artisans\, children’s activities and more! While here\, head up the hill and visit Little…Read more on Sykesville Farmers Market – Carroll County Tourism | Carroll County\, Maryland
URL:https://historicwarfield.com/event/farmers-market-2/
LOCATION:Sykesville\, MD\, USA
ATTACH;FMTTYPE=image/jpeg:https://historicwarfield.com/wp-content/uploads/2023/07/event_sykesvillefarmersmarket.jpg
END:VEVENT
BEGIN:VEVENT
DTSTART;TZID=America/New_York:20230723T090000
DTEND;TZID=America/New_York:20230723T130000
DTSTAMP:20260419T195541
CREATED:20230716T161149Z
LAST-MODIFIED:20230716T161149Z
UID:5625-1690102800-1690117200@historicwarfield.com
SUMMARY:Downtown Sykesville Farmers Market
DESCRIPTION:Season:Summer and Fall Market Hours:May 21 – October 29\, 2023Every Sunday 9am – 1pmLocation:Baldwin Drive…Read more on local AARP
URL:https://historicwarfield.com/event/downtown-sykesville-farmers-market-2/
LOCATION:Downtown Sykesville Farmers Market 7565 Main St\, Sykesville\, MD\, United States
END:VEVENT
BEGIN:VEVENT
DTSTART;TZID=America/New_York:20230722T180000
DTEND;TZID=America/New_York:20230722T210000
DTSTAMP:20260419T195541
CREATED:20230716T185214Z
LAST-MODIFIED:20230716T185214Z
UID:5831-1690048800-1690059600@historicwarfield.com
SUMMARY:2023 MHBA Yearling Show Crab Feast
DESCRIPTION:The annual MHBA Crab Feast moves to the Maryland Horse Library & Education Center for 2023! Read more on Eventbrite
URL:https://historicwarfield.com/event/2023-mhba-yearling-show-crab-feast/
LOCATION:Maryland Horse Library & Education Center 321 Main St\, Reisterstown\, MD\, United States
ATTACH;FMTTYPE=image/jpeg:https://historicwarfield.com/wp-content/uploads/2023/07/https-__cdn.evbuc_.com_images_536850049_1025228118863_1_original.jpg
END:VEVENT
BEGIN:VEVENT
DTSTART;TZID=America/New_York:20230722T180000
DTEND;TZID=America/New_York:20230722T210000
DTSTAMP:20260419T195541
CREATED:20230716T161010Z
LAST-MODIFIED:20230716T161010Z
UID:5620-1690048800-1690059600@historicwarfield.com
SUMMARY:Chris Tolentino Live at The Vine and Patapsco Distilling Co.
DESCRIPTION:Enjoy Live music by Chris Tolentino former vocalist and musician for the Alternative Rock bands Airwaves Spectacular and SmudgeProof! Covering songs from the 60s 70s 80s 90s etc. Read more on AllEvents.in
URL:https://historicwarfield.com/event/chris-tolentino-live-at-the-vine-and-patapsco-distilling-co/
LOCATION:Patapsco Distilling Company 7609 Main St\, Sykesville\, MD\, United States
ATTACH;FMTTYPE=image/jpeg:https://historicwarfield.com/wp-content/uploads/2023/07/thumb646824dd584bb.jpg
END:VEVENT
BEGIN:VEVENT
DTSTART;TZID=America/New_York:20230722T140000
DTEND;TZID=America/New_York:20230722T153000
DTSTAMP:20260419T195541
CREATED:20230716T172018Z
LAST-MODIFIED:20230716T172018Z
UID:5719-1690034400-1690039800@historicwarfield.com
SUMMARY:Real Estate Strategies for the Special Needs Community
DESCRIPTION:Explore housing options for the special needs community. Topics featured will include smart home technology\, individual/group housing\, public transportation\, partners in communication\, and…Read more on Carroll County Public Library
URL:https://historicwarfield.com/event/real-estate-strategies-for-the-special-needs-community/
LOCATION:Carroll County Public Library – Eldersburg Branch 6400 W Hemlock Dr\, Sykesville\, MD\, United States
ATTACH;FMTTYPE=image/jpeg:https://historicwarfield.com/wp-content/uploads/2023/07/images-2.jpeg
END:VEVENT
BEGIN:VEVENT
DTSTART;TZID=America/New_York:20230722T140000
DTEND;TZID=America/New_York:20230722T150000
DTSTAMP:20260419T195541
CREATED:20230716T172917Z
LAST-MODIFIED:20230716T172917Z
UID:5731-1690034400-1690038000@historicwarfield.com
SUMMARY:booKPETS
DESCRIPTION:Come to the library and read a story to a book-loving dog. Research shows that reading to animals can boost reading skills in children as well as help with emotional and social skills. Struggling…Read more on Carroll County Public Library
URL:https://historicwarfield.com/event/bookpets-2/
LOCATION:Carroll County Public Library – Eldersburg Branch 6400 W Hemlock Dr\, Sykesville\, MD\, United States
ATTACH;FMTTYPE=image/jpeg:https://historicwarfield.com/wp-content/uploads/2023/07/booKPETS-fall22_lm.jpg
END:VEVENT
BEGIN:VEVENT
DTSTART;TZID=America/New_York:20230722T110000
DTEND;TZID=America/New_York:20230722T190000
DTSTAMP:20260419T195541
CREATED:20230716T164744Z
LAST-MODIFIED:20230716T164744Z
UID:5673-1690023600-1690052400@historicwarfield.com
SUMMARY:Pop-Up Park Picnic: Couple Date Night (Self-Guided) - Sykesville Area
DESCRIPTION:Pop-Up Picnic in the Park Couple Date Night (Self-Guided) Watch sunset with fun digital activities over picnic! About this Event…Read more on AllEvents.in
URL:https://historicwarfield.com/event/pop-up-park-picnic-couple-date-night-self-guided-sykesville-area-11/
LOCATION:30 Martz Rd\, Sykesville\, MD\, USA
ATTACH;FMTTYPE=image/jpeg:https://historicwarfield.com/wp-content/uploads/2023/07/bf691356cd7f41be355adf94c717a503db9630b45b2db4033798d3f5f7b8ce5a-rimg-w612-h408-gmir.jpg
END:VEVENT
BEGIN:VEVENT
DTSTART;TZID=America/New_York:20230722T100000
DTEND;TZID=America/New_York:20230722T140000
DTSTAMP:20260419T195541
CREATED:20230716T170429Z
LAST-MODIFIED:20230716T170429Z
UID:5685-1690020000-1690034400@historicwarfield.com
SUMMARY:Back-to-School Pop Up Shop with A Crafty Market ✏️
DESCRIPTION:Our friend Sherry with A Crafty Market will be selling some back-to-school goodies including first day signs\, teacher gifts and more! We will be releasing new back-to-school apparel and items as…Read more on AllEvents.in
URL:https://historicwarfield.com/event/back-to-school-pop-up-shop-with-a-crafty-market-%e2%9c%8f%ef%b8%8f/
LOCATION:Happy Kids Co. Children’s Boutique 7520 Main St Suite 104\, Sykesville\, MD\, United States
ATTACH;FMTTYPE=image/webp:https://historicwarfield.com/wp-content/uploads/2023/07/ab5606ec1ef44ccc8f952a50c953876a24748d5ba562d87eb27a76b131505295-rimg-w960-h960-gmir-1.webp
END:VEVENT
BEGIN:VEVENT
DTSTART;TZID=America/New_York:20230722T100000
DTEND;TZID=America/New_York:20230722T120000
DTSTAMP:20260419T195541
CREATED:20230716T183122Z
LAST-MODIFIED:20230716T183122Z
UID:5798-1690020000-1690027200@historicwarfield.com
SUMMARY:Healthy Kids and Happy Moms – Nutrition Workshop
DESCRIPTION:Calling all Moms! Do you wish your kids would eat healthier? Looking for ways to add more natural foods to your family meal plan? Read more on Eventbrite
URL:https://historicwarfield.com/event/healthy-kids-and-happy-moms-nutrition-workshop/
LOCATION:Merritt Clubs Eldersburg 1388 Progress Way\, Eldersburg\, MD\, United States
ATTACH;FMTTYPE=image/jpeg:https://historicwarfield.com/wp-content/uploads/2023/07/https___cdn.evbuc_.com_images_544714239_229299576459_1_original.jpeg
END:VEVENT
BEGIN:VEVENT
DTSTART;TZID=America/New_York:20230722T100000
DTEND;TZID=America/New_York:20230722T110000
DTSTAMP:20260419T195541
CREATED:20230716T172741Z
LAST-MODIFIED:20230716T172741Z
UID:5728-1690020000-1690023600@historicwarfield.com
SUMMARY:Saturday Adventures
DESCRIPTION:Come to the library Saturday morning for a new adventure! Stories\, songs\, dancing\, crafts\, something new and different each week. The one thing that will always happen is fun! Read more on Carroll County Public Library
URL:https://historicwarfield.com/event/saturday-adventures/
LOCATION:Carroll County Public Library – Eldersburg Branch 6400 W Hemlock Dr\, Sykesville\, MD\, United States
ATTACH;FMTTYPE=image/jpeg:https://historicwarfield.com/wp-content/uploads/2023/07/saturday-adventures_lm.jpg
END:VEVENT
END:VCALENDAR