BEGIN:VCALENDAR
VERSION:2.0
PRODID:-//Warfield at Historic Sykesville - ECPv6.15.20//NONSGML v1.0//EN
CALSCALE:GREGORIAN
METHOD:PUBLISH
X-WR-CALNAME:Warfield at Historic Sykesville
X-ORIGINAL-URL:https://historicwarfield.com
X-WR-CALDESC:Events for Warfield at Historic Sykesville
REFRESH-INTERVAL;VALUE=DURATION:PT1H
X-Robots-Tag:noindex
X-PUBLISHED-TTL:PT1H
BEGIN:VTIMEZONE
TZID:America/New_York
BEGIN:DAYLIGHT
TZOFFSETFROM:-0500
TZOFFSETTO:-0400
TZNAME:EDT
DTSTART:20220313T070000
END:DAYLIGHT
BEGIN:STANDARD
TZOFFSETFROM:-0400
TZOFFSETTO:-0500
TZNAME:EST
DTSTART:20221106T060000
END:STANDARD
BEGIN:DAYLIGHT
TZOFFSETFROM:-0500
TZOFFSETTO:-0400
TZNAME:EDT
DTSTART:20230312T070000
END:DAYLIGHT
BEGIN:STANDARD
TZOFFSETFROM:-0400
TZOFFSETTO:-0500
TZNAME:EST
DTSTART:20231105T060000
END:STANDARD
BEGIN:DAYLIGHT
TZOFFSETFROM:-0500
TZOFFSETTO:-0400
TZNAME:EDT
DTSTART:20240310T070000
END:DAYLIGHT
BEGIN:STANDARD
TZOFFSETFROM:-0400
TZOFFSETTO:-0500
TZNAME:EST
DTSTART:20241103T060000
END:STANDARD
END:VTIMEZONE
BEGIN:VEVENT
DTSTART;TZID=America/New_York:20230825T170000
DTEND;TZID=America/New_York:20230825T190000
DTSTAMP:20260419T094750
CREATED:20230716T201758Z
LAST-MODIFIED:20230716T201758Z
UID:5972-1692982800-1692990000@historicwarfield.com
SUMMARY:Brunswick Varsity Football @ Century
DESCRIPTION:The Century (Sykesville\, MD) varsity football team has a home non-conference game vs. Brunswick (MD) on Friday\, August 25 @ 5p.Read more on MaxPreps
URL:https://historicwarfield.com/event/brunswick-varsity-football-century/
LOCATION:Century High School 355 Ronsdale Rd\, Sykesville\, MD\, United States
ATTACH;FMTTYPE=image/jpeg:https://historicwarfield.com/wp-content/uploads/2023/07/imagesasdcxcc.jpg
END:VEVENT
BEGIN:VEVENT
DTSTART;TZID=America/New_York:20230825T080000
DTEND;TZID=America/New_York:20230825T130000
DTSTAMP:20260419T094750
CREATED:20230716T200127Z
LAST-MODIFIED:20230716T200127Z
UID:5938-1692950400-1692968400@historicwarfield.com
SUMMARY:CDA Rummage Sale 2023
DESCRIPTION:CDA Rummage Sale 2023
URL:https://historicwarfield.com/event/cda-rummage-sale-2023/
LOCATION:St Joseph’s Catholic Church 915 Liberty Rd\, Sykesville\, MD\, United States
ATTACH;FMTTYPE=image/jpeg:https://historicwarfield.com/wp-content/uploads/2023/07/Rummage-Sale-2023.jpg
END:VEVENT
BEGIN:VEVENT
DTSTART;TZID=America/New_York:20230824T080000
DTEND;TZID=America/New_York:20230927T170000
DTSTAMP:20260419T094750
CREATED:20230716T201931Z
LAST-MODIFIED:20230716T201931Z
UID:5974-1692864000-1695834000@historicwarfield.com
SUMMARY:2023 Maryland State Fair
DESCRIPTION:EVERYONE’S FAVORITE EVENT IS BACK running three fabulous weekends in August and September! Take a break from the heat and visit the Maryland Lottery inside the Exhibition Hall every day of the…Read more on Maryland Lottery
URL:https://historicwarfield.com/event/2023-maryland-state-fair/
LOCATION:Timonium Fairgrounds Timonium\, MD\, United States
ATTACH;FMTTYPE=image/png:https://historicwarfield.com/wp-content/uploads/2023/07/images.png
END:VEVENT
BEGIN:VEVENT
DTSTART;TZID=America/New_York:20230823T190000
DTEND;TZID=America/New_York:20230823T190000
DTSTAMP:20260419T094750
CREATED:20230716T195149Z
LAST-MODIFIED:20230716T195149Z
UID:5920-1692817200-1692817200@historicwarfield.com
SUMMARY:Historic District Commission Meeting
DESCRIPTION:Historic District Commission Meeting
URL:https://historicwarfield.com/event/historic-district-commission-meeting-3/
LOCATION:Legacy Hall 6680 Sykesville Rd\, Sykesville\, MD\, United States
END:VEVENT
BEGIN:VEVENT
DTSTART;TZID=America/New_York:20230823T080000
DTEND;TZID=America/New_York:20230825T200000
DTSTAMP:20260419T094750
CREATED:20230716T201242Z
LAST-MODIFIED:20230716T201242Z
UID:5963-1692777600-1692993600@historicwarfield.com
SUMMARY:Charity Rummage Sale
DESCRIPTION:Saint Joseph Catholic Community in Eldersburg\, 915 Liberty Road\, will host the Catholic Daughters of the America’s Court SJCC Rummage Sale Aug. 23\, 8 a.m.-8 p.m.; Aug. 24\, 8 a.m.-6 p.m.\, and Aug…Read more on the Archdiocese of Baltimore
URL:https://historicwarfield.com/event/charity-rummage-sale/
LOCATION:St Joseph’s Catholic Church 915 Liberty Rd\, Sykesville\, MD\, United States
ATTACH;FMTTYPE=image/jpeg:https://historicwarfield.com/wp-content/uploads/2023/07/Rummage-Sale-2023.jpg
END:VEVENT
BEGIN:VEVENT
DTSTART;TZID=America/New_York:20230823T080000
DTEND;TZID=America/New_York:20230823T170000
DTSTAMP:20260419T094750
CREATED:20230716T190307Z
LAST-MODIFIED:20230716T190404Z
UID:5848-1692777600-1692810000@historicwarfield.com
SUMMARY:Garrett Mabe @ The Local Motive
DESCRIPTION:Garrett Mabe @ The Local Motive
URL:https://historicwarfield.com/event/garrett-mabe-the-local-motive/
LOCATION:The Local Motive 7540 Main St\, Sykesville\, MD\, United States
ATTACH;FMTTYPE=image/jpeg:https://historicwarfield.com/wp-content/uploads/2023/07/images.jpeg
END:VEVENT
BEGIN:VEVENT
DTSTART;TZID=America/New_York:20230822T080000
DTEND;TZID=America/New_York:20230822T093000
DTSTAMP:20260419T094750
CREATED:20230716T195406Z
LAST-MODIFIED:20230716T195406Z
UID:5924-1692691200-1692696600@historicwarfield.com
SUMMARY:Carroll County Chamber of Commerce Commissioner Breakfast
DESCRIPTION:Join the Carroll County Chamber of Commerce for a Breakfast Meeting with your local Commissioner! Featuring Commissioner Ed Rothstein- District 5: Eldersburg & Sykesville An opportunity to meet…Read more on Upcoming Events – Economic Development
URL:https://historicwarfield.com/event/carroll-county-chamber-of-commerce-commissioner-breakfast/
LOCATION:Carroll County Public Library – Eldersburg Branch 6400 W Hemlock Dr\, Sykesville\, MD\, United States
END:VEVENT
BEGIN:VEVENT
DTSTART;TZID=America/New_York:20230821T230000
DTEND;TZID=America/New_York:20230821T233000
DTSTAMP:20260419T094750
CREATED:20230716T200246Z
LAST-MODIFIED:20230716T200246Z
UID:5942-1692658800-1692660600@historicwarfield.com
SUMMARY:Rosary for Life
DESCRIPTION:Rosary for Life
URL:https://historicwarfield.com/event/rosary-for-life-3/
LOCATION:915 Liberty Rd\, Sykesville\, MD\, USA
ATTACH;FMTTYPE=image/jpeg:https://historicwarfield.com/wp-content/uploads/2023/07/rosary-life-980x551-1.jpg
END:VEVENT
BEGIN:VEVENT
DTSTART;TZID=America/New_York:20230820T130000
DTEND;TZID=America/New_York:20230820T190000
DTSTAMP:20260419T094750
CREATED:20230716T195519Z
LAST-MODIFIED:20230716T195519Z
UID:5926-1692536400-1692558000@historicwarfield.com
SUMMARY:Child and Babysitting Safety Course
DESCRIPTION:Perfect for teens and young adults interested in a babysitting business\, or who have responsibility for younger family members. Read more on Eventbrite
URL:https://historicwarfield.com/event/child-and-babysitting-safety-course/
LOCATION:Winfield & Community Fire Co 1320 W Old Liberty Rd\, Sykesville\, MD\, United States
ATTACH;FMTTYPE=image/jpeg:https://historicwarfield.com/wp-content/uploads/2023/07/https-__cdn.evbuc_.com_images_527967599_289327335861_1_original.jpg
END:VEVENT
BEGIN:VEVENT
DTSTART;TZID=America/New_York:20230820T130000
DTEND;TZID=America/New_York:20230820T170000
DTSTAMP:20260419T094750
CREATED:20230716T203535Z
LAST-MODIFIED:20230716T203535Z
UID:6003-1692536400-1692550800@historicwarfield.com
SUMMARY:Renegade Monster Truck Tour
DESCRIPTION:RENEGADES Invade the Carroll County Ag Center August 18\, 19 & 20 for the Renegade Monster Truck Tour! The Renegade Monster Truck Tour features hours of pure adrenaline-fueled excitement for all…Read more on Carroll County Tourism
URL:https://historicwarfield.com/event/renegade-monster-truck-tour/
LOCATION:Carroll County Agriculture Center 706 Agricultural Center Dr\, Westminster\, MD\, United States
ATTACH;FMTTYPE=image/jpeg:https://historicwarfield.com/wp-content/uploads/2023/07/event_MonsterTruckTour.jpg
END:VEVENT
BEGIN:VEVENT
DTSTART;TZID=America/New_York:20230819T180000
DTEND;TZID=America/New_York:20230819T210000
DTSTAMP:20260419T094750
CREATED:20230716T191050Z
LAST-MODIFIED:20230716T191050Z
UID:5859-1692468000-1692478800@historicwarfield.com
SUMMARY:Merry Land
DESCRIPTION:Merry Land
URL:https://historicwarfield.com/event/merry-land/
LOCATION:The Vine on Main 7615 Main St\, Sykesville\, MD\, United States
ATTACH;FMTTYPE=image/webp:https://historicwarfield.com/wp-content/uploads/2023/07/meta-eyJzcmNCdWNrZXQiOiJiemdsZmlsZXMifQ.webp
END:VEVENT
BEGIN:VEVENT
DTSTART;TZID=America/New_York:20230819T110000
DTEND;TZID=America/New_York:20230819T160000
DTSTAMP:20260419T094750
CREATED:20230716T194410Z
LAST-MODIFIED:20230716T194410Z
UID:5905-1692442800-1692460800@historicwarfield.com
SUMMARY:Deven’s Deals Firehouse Faire
DESCRIPTION:Deven’s Deals is organizing a fundraiser for the Sykesville Freedom District Fire Department by hosting our own Renaissance/Medieval Festival! Join us at this medieval fair for food\, vendors and…Read more on AllEvents.in
URL:https://historicwarfield.com/event/devens-deals-firehouse-faire/
LOCATION:Sykesville Freedom District Fire 6680 Sykesville Rd\, Sykesville\, MD\, United States
ATTACH;FMTTYPE=image/webp:https://historicwarfield.com/wp-content/uploads/2023/07/d980c15447f9afc11bba213d7b43415cc32d879304832f38e0e5e755277d5491-rimg-w960-h540-gmir.webp
END:VEVENT
BEGIN:VEVENT
DTSTART;TZID=America/New_York:20230818T170000
DTEND;TZID=America/New_York:20230818T190000
DTSTAMP:20260419T094750
CREATED:20230716T201639Z
LAST-MODIFIED:20230716T201639Z
UID:5969-1692378000-1692385200@historicwarfield.com
SUMMARY:Marriotts Ridge Varsity Football @ Century
DESCRIPTION:The Century (Sykesville\, MD) varsity football team has a home non-conference game vs. Marriotts Ridge (Marriottsville\, MD) on Friday\, August 18 @ 5p.Read more on MaxPreps
URL:https://historicwarfield.com/event/marriotts-ridge-varsity-football-century/
LOCATION:Century High School 355 Ronsdale Rd\, Sykesville\, MD\, United States
ATTACH;FMTTYPE=image/jpeg:https://historicwarfield.com/wp-content/uploads/2023/07/imagesasdcxcc.jpg
END:VEVENT
BEGIN:VEVENT
DTSTART;TZID=America/New_York:20230816T180000
DTEND;TZID=America/New_York:20230816T200000
DTSTAMP:20260419T094750
CREATED:20230716T195646Z
LAST-MODIFIED:20230716T195646Z
UID:5929-1692208800-1692216000@historicwarfield.com
SUMMARY:Stop the Bleed - Bleeding Control Basics
DESCRIPTION:Stop the Bleed empowers the general public to make a difference in a life-threatening emergency by teaching them the basics. Read more on Eventbrite
URL:https://historicwarfield.com/event/stop-the-bleed-bleeding-control-basics/
LOCATION:Winfield & Community Fire Co 1320 W Old Liberty Rd\, Sykesville\, MD\, United States
ATTACH;FMTTYPE=image/jpeg:https://historicwarfield.com/wp-content/uploads/2023/07/https-__cdn.evbuc_.com_images_527963179_289327335861_1_original.jpg
END:VEVENT
BEGIN:VEVENT
DTSTART;TZID=America/New_York:20230814T230000
DTEND;TZID=America/New_York:20230814T233000
DTSTAMP:20260419T094750
CREATED:20230716T195938Z
LAST-MODIFIED:20230716T195938Z
UID:5936-1692054000-1692055800@historicwarfield.com
SUMMARY:Rosary for Life
DESCRIPTION:Rosary for Life
URL:https://historicwarfield.com/event/rosary-for-life-2/
LOCATION:915 Liberty Rd\, Sykesville\, MD\, USA
ATTACH;FMTTYPE=image/jpeg:https://historicwarfield.com/wp-content/uploads/2023/07/rosary-life-980x551-1.jpg
END:VEVENT
BEGIN:VEVENT
DTSTART;TZID=America/New_York:20230814T130000
DTEND;TZID=America/New_York:20230814T200000
DTSTAMP:20260419T094750
CREATED:20230716T201504Z
LAST-MODIFIED:20230716T201504Z
UID:5966-1692018000-1692043200@historicwarfield.com
SUMMARY:Intro to Ballet Intensive
DESCRIPTION:This is a one-week ballet intensive designed for serious dancers at the pre-pointe/beginning pointe level looking to supplement their summer study. Dancers will start the day with a ballet…Read more on Facebook
URL:https://historicwarfield.com/event/intro-to-ballet-intensive/
LOCATION:Carroll County Dance Center 6300 Georgetown Blvd Suite 105\, Sykesville\, MD\, United States
ATTACH;FMTTYPE=image/jpeg:https://historicwarfield.com/wp-content/uploads/2023/07/imagesdfyoaf.jpg
END:VEVENT
BEGIN:VEVENT
DTSTART;TZID=America/New_York:20230813T120000
DTEND;TZID=America/New_York:20230813T170000
DTSTAMP:20260419T094750
CREATED:20230716T192758Z
LAST-MODIFIED:20230716T192758Z
UID:5872-1691928000-1691946000@historicwarfield.com
SUMMARY:Sykesville Mile on Main
DESCRIPTION:Come run the Sykesville Mile on Main race in Sykesville this August Read more on Race Entry
URL:https://historicwarfield.com/event/sykesville-mile-on-main/
LOCATION:Downtown Sykesville Connection 7566 Main Street\, Spout Hill Rd #302\, Sykesville\, MD\, United States
END:VEVENT
BEGIN:VEVENT
DTSTART;TZID=America/New_York:20230813T090000
DTEND;TZID=America/New_York:20230813T090000
DTSTAMP:20260419T094750
CREATED:20230716T201057Z
LAST-MODIFIED:20230716T201057Z
UID:5960-1691917200-1691917200@historicwarfield.com
SUMMARY:Farmers Market
DESCRIPTION:Farmers Market
URL:https://historicwarfield.com/event/farmers-market-5/
LOCATION:Sykesville\, MD\, USA
END:VEVENT
BEGIN:VEVENT
DTSTART;TZID=America/New_York:20230812T130000
DTEND;TZID=America/New_York:20230812T170000
DTSTAMP:20260419T094750
CREATED:20230716T200530Z
LAST-MODIFIED:20230716T200530Z
UID:5947-1691845200-1691859600@historicwarfield.com
SUMMARY:MNA D2\, Summer picnic\, Meet and Greet.
DESCRIPTION:Please Join MNA D2 for a free event on August 12th\, 2023. This event will be free for Nurses and Nursing students and guests. W﻿hen: Saturday\, August 12th T﻿ime: 1-5 pm W﻿here: Piney Run Park…Read more on Eventbrite
URL:https://historicwarfield.com/event/mna-d2-summer-picnic-meet-and-greet/
LOCATION:Piney Run Park 30 Martz Rd\, Sykesville\, MD\, United States
ATTACH;FMTTYPE=image/jpeg:https://historicwarfield.com/wp-content/uploads/2023/07/https-__cdn.evbuc_.com_images_550633519_201319752170_1_original.jpg
END:VEVENT
BEGIN:VEVENT
DTSTART;TZID=America/New_York:20230811T110000
DTEND;TZID=America/New_York:20230811T190000
DTSTAMP:20260419T094750
CREATED:20230716T195306Z
LAST-MODIFIED:20230716T195306Z
UID:5922-1691751600-1691780400@historicwarfield.com
SUMMARY:Pop-Up Park Picnic: Couple Date Night (Self-Guided) - Sykesville Area
DESCRIPTION:Pop-Up Picnic in the Park Couple Date Night (Self-Guided) Watch sunset with fun digital activities over picnic! About this Event Read more on AllEvents.in
URL:https://historicwarfield.com/event/pop-up-park-picnic-couple-date-night-self-guided-sykesville-area-20/
LOCATION:30 Martz Rd\, Sykesville\, MD\, USA
ATTACH;FMTTYPE=image/jpeg:https://historicwarfield.com/wp-content/uploads/2023/07/bf691356cd7f41be355adf94c717a503db9630b45b2db4033798d3f5f7b8ce5a-rimg-w612-h408-gmir.jpg
END:VEVENT
BEGIN:VEVENT
DTSTART;TZID=America/New_York:20230811T080000
DTEND;TZID=America/New_York:20230811T160000
DTSTAMP:20260419T094750
CREATED:20230716T193206Z
LAST-MODIFIED:20230716T193206Z
UID:5880-1691740800-1691769600@historicwarfield.com
SUMMARY:MD HOW - Special Event for WRNMMC Marine Detachment
DESCRIPTION:This event will be a special event for the Walter Reed National Military Medical Center at the Piney Run Park\, Sykesville\, MD. Volunteers should be ready at 7:00 AM Event Coordinator.: Jim Cooper…Read more on Eventbrite
URL:https://historicwarfield.com/event/md-how-special-event-for-wrnmmc-marine-detachment/
LOCATION:Piney Run Park 30 Martz Rd\, Sykesville\, MD\, United States
ATTACH;FMTTYPE=image/jpeg:https://historicwarfield.com/wp-content/uploads/2023/07/https-__cdn.evbuc_.com_images_520240179_88913571521_1_original.jpg
END:VEVENT
BEGIN:VEVENT
DTSTART;TZID=America/New_York:20230811T080000
DTEND;TZID=America/New_York:20230811T080000
DTSTAMP:20260419T094750
CREATED:20230716T203112Z
LAST-MODIFIED:20230716T203112Z
UID:5997-1691740800-1691740800@historicwarfield.com
SUMMARY:19th Annual Bulldogs Football & Cheer - Golf Tournament
DESCRIPTION:Hey Bulldog Nation! Join us for our 19th Annual Bulldogs Football & Cheer Golf Tournament at The Links at Challedon! 2023 Mount Airy Bulldogs Football & Cheer Golf Tournament Date: Friday\, August…Read more on AllEvents.in
URL:https://historicwarfield.com/event/19th-annual-bulldogs-football-cheer-golf-tournament/
ATTACH;FMTTYPE=image/jpeg:https://historicwarfield.com/wp-content/uploads/2023/07/imagesqer56.jpg
END:VEVENT
BEGIN:VEVENT
DTSTART;TZID=America/New_York:20230810T180000
DTEND;TZID=America/New_York:20230810T193000
DTSTAMP:20260419T094750
CREATED:20230716T193438Z
LAST-MODIFIED:20230716T193438Z
UID:5885-1691690400-1691695800@historicwarfield.com
SUMMARY:Cocktails & Calligraphy for Beginners at Patapsco Distilling Company
DESCRIPTION:Join us at Patapsco Distilling Company in Sykesville\, Maryland for an evening of pretty lettering! Whether you’re a stationery nerd\, DIY Bride-to-be\, or just a crafty individual\, in this workshop…Read more on AllEvents.in
URL:https://historicwarfield.com/event/cocktails-calligraphy-for-beginners-at-patapsco-distilling-company/
LOCATION:Patapsco Distilling Company 7609 Main St\, Sykesville\, MD\, United States
ATTACH;FMTTYPE=image/jpeg:https://historicwarfield.com/wp-content/uploads/2023/07/imageslklkasdf.jpg
END:VEVENT
BEGIN:VEVENT
DTSTART;TZID=America/New_York:20230810T110000
DTEND;TZID=America/New_York:20230810T190000
DTSTAMP:20260419T094750
CREATED:20230716T194034Z
LAST-MODIFIED:20230716T194034Z
UID:5899-1691665200-1691694000@historicwarfield.com
SUMMARY:Pop-Up Park Picnic: Couple Date Night (Self-Guided) - Sykesville Area
DESCRIPTION:Pop-Up Picnic in the Park Couple Date Night (Self-Guided) Watch sunset with fun digital activities over picnic! About this Event Read more on AllEvents.in
URL:https://historicwarfield.com/event/pop-up-park-picnic-couple-date-night-self-guided-sykesville-area-17/
LOCATION:30 Martz Rd\, Sykesville\, MD\, USA
ATTACH;FMTTYPE=image/jpeg:https://historicwarfield.com/wp-content/uploads/2023/07/bf691356cd7f41be355adf94c717a503db9630b45b2db4033798d3f5f7b8ce5a-rimg-w612-h408-gmir.jpg
END:VEVENT
BEGIN:VEVENT
DTSTART;TZID=America/New_York:20230809T183000
DTEND;TZID=America/New_York:20230809T210000
DTSTAMP:20260419T094750
CREATED:20230716T185959Z
LAST-MODIFIED:20230716T185959Z
UID:5843-1691605800-1691614800@historicwarfield.com
SUMMARY:Sykesville Line Dance Party
DESCRIPTION:Line Dancing in Sykesville Maryland About this Event Wednesday Night Line Dancing with DJ Jerry Read more on AllEvents.in
URL:https://historicwarfield.com/event/sykesville-line-dance-party-5/
ATTACH;FMTTYPE=image/jpeg:https://historicwarfield.com/wp-content/uploads/2023/07/44fcfec14da7dc0ff52003a18db3fcab7395eb0b4214d3917ff2d0de77d3a9a2-rimg-w1200-h600-gmir.jpg
END:VEVENT
BEGIN:VEVENT
DTSTART;TZID=America/New_York:20230809T130000
DTEND;TZID=America/New_York:20230809T170000
DTSTAMP:20260419T094750
CREATED:20230716T192932Z
LAST-MODIFIED:20230716T192932Z
UID:5874-1691586000-1691600400@historicwarfield.com
SUMMARY:Day for Book Lovers
DESCRIPTION:Day for Book Lovers
URL:https://historicwarfield.com/event/day-for-book-lovers/
LOCATION:Sykesville Freedom District Fire 6680 Sykesville Rd\, Sykesville\, MD\, United States
ATTACH;FMTTYPE=image/jpeg:https://historicwarfield.com/wp-content/uploads/2023/07/imagesasdfadsfc.jpg
END:VEVENT
BEGIN:VEVENT
DTSTART;TZID=America/New_York:20230807T230000
DTEND;TZID=America/New_York:20230807T233000
DTSTAMP:20260419T094750
CREATED:20230716T195751Z
LAST-MODIFIED:20230716T195824Z
UID:5932-1691449200-1691451000@historicwarfield.com
SUMMARY:Rosary for Life
DESCRIPTION:Rosary for Life
URL:https://historicwarfield.com/event/rosary-for-life/
LOCATION:915 Liberty Rd\, Sykesville\, MD\, USA
ATTACH;FMTTYPE=image/jpeg:https://historicwarfield.com/wp-content/uploads/2023/07/rosary-life-980x551-1.jpg
END:VEVENT
BEGIN:VEVENT
DTSTART;TZID=America/New_York:20230807T230000
DTEND;TZID=America/New_York:20230807T230000
DTSTAMP:20260419T094750
CREATED:20230716T195101Z
LAST-MODIFIED:20230716T195101Z
UID:5918-1691449200-1691449200@historicwarfield.com
SUMMARY:Planning Commission Meeting
DESCRIPTION:Planning Commission Meeting
URL:https://historicwarfield.com/event/planning-commission-meeting/
LOCATION:7547 Main St\, Sykesville\, MD\, USA
END:VEVENT
BEGIN:VEVENT
DTSTART;TZID=America/New_York:20230807T123000
DTEND;TZID=America/New_York:20230807T200000
DTSTAMP:20260419T094750
CREATED:20230716T200918Z
LAST-MODIFIED:20230716T200918Z
UID:5957-1691411400-1691438400@historicwarfield.com
SUMMARY:Ballet Intensive
DESCRIPTION:A full two week intensive for the classically trained ballet dancer seeking pre-professional training. Prominent CCDC faculty members will be joined by other accomplished guest teachers for the…Read more on AllEvents.in
URL:https://historicwarfield.com/event/ballet-intensive/
LOCATION:Carroll County Dance Center 6300 Georgetown Blvd Suite 105\, Sykesville\, MD\, United States
ATTACH;FMTTYPE=image/jpeg:https://historicwarfield.com/wp-content/uploads/2023/07/imagesdfahhhasdf.jpg
END:VEVENT
BEGIN:VEVENT
DTSTART;TZID=America/New_York:20230807T120000
DTEND;TZID=America/New_York:20230807T133000
DTSTAMP:20260419T094750
CREATED:20230716T200350Z
LAST-MODIFIED:20230716T200350Z
UID:5944-1691409600-1691415000@historicwarfield.com
SUMMARY:Carroll Business Network
DESCRIPTION:The Carroll Business Network brings small business leaders together\, educates on actionable business topics\, and builds relationships in the community. The Network promotes community-building by…Read more on Carroll Business Network – Economic Development
URL:https://historicwarfield.com/event/carroll-business-network/
LOCATION:Tony’s Japanese Restaurant 1213 Liberty Rd\, Sykesville\, MD\, United States
END:VEVENT
END:VCALENDAR